BEGIN:VCALENDAR
VERSION:2.0
PRODID:-//wp-events-plugin.com//7.2.3.1//EN
TZID:Europe/Berlin
X-WR-TIMEZONE:Europe/Berlin
BEGIN:VEVENT
UID:417@smv-aktuell.de
DTSTART;TZID=Europe/Berlin:20230422T100000
DTEND;TZID=Europe/Berlin:20230423T170000
DTSTAMP:20230303T095340Z
URL:https://www.smv-aktuell.de/events/wilsdruffer-techniktreff/
SUMMARY:Wilsdruffer Techniktreff
DESCRIPTION:\n 	Wilsdruffer Techniktreffen.\n\nAnlässlich unseres Technekt
 treffens bieten wir Ihnen eine große Bandbreite zum Thema Technikgeschich
 te.\n\nZu sehen gibt es unsere Vereinseigenen Modellbahnen. H0 mit Bahnhof
  Sebnitz und H0e Bahnhof Mohorn.\n\nDarüberhinaus stellt der Verein IG Ve
 rkehrsgeschichte seine sächsischen Schmalspurfahrzeuge und dieverse weite
 re Bahngeschichtliche Exponate aus. Auf eimem etwa 150m langem Gleisstück
  steht der Dittmannsdorfer SKL für mitfahrten bereit.\n\nDie Freiwllige F
 euerwehr Wilsdruff zeigt Ihre historischen Fahrzeuge\n\nAuf dem Freigelän
 de sind Alttraktoren\, Motoräder und eine Gartenbahn zu sehen.\n\nFür di
 e kleinen Gäste gibt es eine Hüpfburg und einen Spielewagen der Feuerweh
 r wo spielerisch Feuerwehr typische Tätigkeiten geübt werden können.\n\
 nIm Güterboden des Bahnhofsgebäudes wird ein Modell\, des leider abgeris
 senen Wilsdruffer Mittewellefunkturms und eine große Modell Dampfmaschien
 enausstellung zu bewundern sein.\n\nFür das leibliche Wohl sorgen die Ver
 eine gemeinsam.\n\nDer Dampfmaschienenverein stellt auf der Fabrikstr. 2 s
 eine&nbsp\; original Dampfmaschine aus. Hier wird auch Kinderschminken ang
 eboten\n\nBeim Autohaus Schelsky gibt es eine Oldtimer Austellung\n\nund a
 uf der Dresdner Str. 8 ist&nbsp\;&nbsp\; eine Austellung zum Thema Fernmel
 detechnik zu sehen\n\n&nbsp\;\n\n&nbsp\;
ATTACH;FMTTYPE=image/jpeg:https://www.smv-aktuell.de/wp-content/uploads/20
 23/03/Flyer-JPG.jpg
CATEGORIES:1 SMV (öffentliche Veranstaltung)
LOCATION:Stadt- und Vereinshaus Kleinbahnhof Wilsdruff\, Freiberger Straße
  48\, Wilsdruff\, Sachsen\, 01723\, Deutschland
GEO:51.045796;13.538155
X-APPLE-STRUCTURED-LOCATION;VALUE=URI;X-ADDRESS=Freiberger Straße 48\, Wil
 sdruff\, Sachsen\, 01723\, Deutschland;X-APPLE-RADIUS=100;X-TITLE=Stadt- u
 nd Vereinshaus Kleinbahnhof Wilsdruff:geo:51.045796,13.538155
END:VEVENT
BEGIN:VTIMEZONE
TZID:Europe/Berlin
X-LIC-LOCATION:Europe/Berlin
BEGIN:DAYLIGHT
DTSTART:20230326T030000
TZOFFSETFROM:+0100
TZOFFSETTO:+0200
TZNAME:CEST
END:DAYLIGHT
END:VTIMEZONE
END:VCALENDAR