BEGIN:VCALENDAR
VERSION:2.0
PRODID:-//wp-events-plugin.com//7.2.3.1//EN
TZID:Europe/Berlin
X-WR-TIMEZONE:Europe/Berlin
BEGIN:VEVENT
UID:466@smv-aktuell.de
DTSTART;TZID=Europe/Berlin:20231208T140000
DTEND;TZID=Europe/Berlin:20231210T190000
DTSTAMP:20230803T143107Z
URL:https://www.smv-aktuell.de/events/weihnachtsausstellung-anlaesslich-de
 s-radebeuler-weihnachtsmarktes-2023-2/
SUMMARY:Weihnachtsausstellung anlässlich des Radebeuler Weihnachtsmarktes 
 2023
DESCRIPTION:Zu unserer diesjährigen Weihnachtsausstellung 2023 laden wir s
 ie recht herzlich ein!\n\nGezeigt wird:\n\n 	H0e Anlage im Fahrbetrieb nac
 h mehr als 4 jähriger Restaurierung\;\n 	Vereinsanlage im Fahrbetrieb\;\n
  	Dioramen der Firma Auhagen GmbH in den Nenngrößen H0\, TT und N\;\n 	V
 itrinen-Schau mit Zuggarnituren der Epochen I bis IIIa\, wie sie in der Re
 gion zu sehen waren\;\n 	kleine Vitrinen-Schau zur Entwicklung des Gebäud
 emodellbaues von ca. 1949 bis ca. 1989 in der DDR und&nbsp\;\n 	Verkauf vo
 n einigen Modellbahnartikeln der Nenngrößen H0 und N.\n
CATEGORIES:1 SMV (öffentliche Veranstaltung)
LOCATION:Vereinsräume Radebeuler Modellbahnfreunde\, Altkötzschenbroda 66
 \, Radebeul\, Sachsen\, 01445\, Deutschland
GEO:51.104828;13.627202
X-APPLE-STRUCTURED-LOCATION;VALUE=URI;X-ADDRESS=Altkötzschenbroda 66\, Rad
 ebeul\, Sachsen\, 01445\, Deutschland;X-APPLE-RADIUS=100;X-TITLE=Vereinsr
 äume Radebeuler Modellbahnfreunde:geo:51.104828,13.627202
END:VEVENT
BEGIN:VTIMEZONE
TZID:Europe/Berlin
X-LIC-LOCATION:Europe/Berlin
BEGIN:STANDARD
DTSTART:20231029T020000
TZOFFSETFROM:+0200
TZOFFSETTO:+0100
TZNAME:CET
END:STANDARD
END:VTIMEZONE
END:VCALENDAR