BEGIN:VCALENDAR
VERSION:2.0
PRODID:-//wp-events-plugin.com//7.2.3.1//EN
TZID:Europe/Berlin
X-WR-TIMEZONE:Europe/Berlin
BEGIN:VEVENT
UID:1085@smv-aktuell.de
DTSTART;TZID=Europe/Berlin:20250118T100000
DTEND;TZID=Europe/Berlin:20250118T150000
DTSTAMP:20241031T085309Z
URL:https://www.smv-aktuell.de/events/vorstandssitzung-12/
SUMMARY:Vorstandssitzung
DESCRIPTION:Sitzung des geschäftsführenden Vorstandes mit Beisitzer und K
 assenprüfer\nSonntag\, 19.01.2025 Kassenprüfung\nTeilnehmer erhalten Ein
 ladungen
CATEGORIES:5 Intern (nicht öffentliche Veranstaltung)
LOCATION:Ehemaliges Schützenhaus Zschopau\, Witzschdorfer Str. 15\, Zschop
 au\, Sachsen\, 09405\, Deutschland
GEO:50.752416;13.07013
X-APPLE-STRUCTURED-LOCATION;VALUE=URI;X-ADDRESS=Witzschdorfer Str. 15\, Zsc
 hopau\, Sachsen\, 09405\, Deutschland;X-APPLE-RADIUS=100;X-TITLE=Ehemalige
 s Schützenhaus Zschopau:geo:50.752416,13.07013
END:VEVENT
BEGIN:VTIMEZONE
TZID:Europe/Berlin
X-LIC-LOCATION:Europe/Berlin
BEGIN:STANDARD
DTSTART:20241027T020000
TZOFFSETFROM:+0200
TZOFFSETTO:+0100
TZNAME:CET
END:STANDARD
END:VTIMEZONE
END:VCALENDAR