BEGIN:VCALENDAR
VERSION:2.0
PRODID:-//wp-events-plugin.com//7.2.3.1//EN
TZID:Europe/Berlin
X-WR-TIMEZONE:Europe/Berlin
BEGIN:VEVENT
UID:294@smv-aktuell.de
DTSTART;TZID=Europe/Berlin:20221127T150000
DTEND;TZID=Europe/Berlin:20221130T190000
DTSTAMP:20220928T162253Z
URL:https://www.smv-aktuell.de/events/traditionelle-modellbahnausstellung-
 apolda-2022-11-27/
SUMMARY:Traditionelle Modellbahnausstellung  Apolda
DESCRIPTION:Modellbahnausstellung in Apolda zum Lichterfest im Stadthaus 1&
 nbsp\;\n\nAm 25.11.2022 von 15.00 bis 19.00 Uhr&nbsp\;\n\nAm 26.11.2022 vo
 n 10.00 bis 19.00 Uhr\n\nAm 27.11.2022 von 10.00 bis 17 00 Uhr&nbsp\;
CATEGORIES:3 ThEM (öffentliche Veranstaltung)
LOCATION:Stadthaus Apolda\, Stadthaus 1\, Apolda\, Deutschland \, 99510\, T
 hüringen \, Deutschland
GEO:51.023048;11.515069
X-APPLE-STRUCTURED-LOCATION;VALUE=URI;X-ADDRESS=Stadthaus 1\, Apolda\, Deut
 schland \, 99510\, Thüringen \, Deutschland;X-APPLE-RADIUS=100;X-TITLE=St
 adthaus Apolda:geo:51.023048,11.515069
END:VEVENT
BEGIN:VTIMEZONE
TZID:Europe/Berlin
X-LIC-LOCATION:Europe/Berlin
BEGIN:STANDARD
DTSTART:20221030T020000
TZOFFSETFROM:+0200
TZOFFSETTO:+0100
TZNAME:CET
END:STANDARD
END:VTIMEZONE
END:VCALENDAR