BEGIN:VCALENDAR
VERSION:2.0
PRODID:-//wp-events-plugin.com//7.2.3.1//EN
TZID:Europe/Berlin
X-WR-TIMEZONE:Europe/Berlin
BEGIN:VEVENT
UID:905@smv-aktuell.de
DTSTART;TZID=Europe/Berlin:20241013T123000
DTEND;TZID=Europe/Berlin:20241013T163000
DTSTAMP:20240822T073433Z
URL:https://www.smv-aktuell.de/events/tag-der-offenen-tuere-2/
SUMMARY:Tag der offenen Türe
DESCRIPTION:Unser alljährlicher Tag der offenen Türe findet am Sonntag\, 
 den 13.10. 2024 statt. Hierzu laden die "Modelleisenbahnfreunde Sulzach Ex
 press e.V." herzlich ein. Willkommen ist jedermann. Egal ob jung oder alt.
 \n\nHier zeigen wir euch unsere Vereinsanlage einschl. Fahrbetrieb und Fal
 ler Car-System (genauere Informationen entnehmen Sie bitte unserer Website
 )\n\nFür das leibliche Wohl zur Kaffeezeit ist mit Kaffee und Kuchen geso
 rgt. Auch werden wir diesmal wieder einen kleinen\, aber dennoch feinen Ba
 sar anbieten.\n\nWir freuen sehr auf Ihren Besuch.\n\nPS: sollte der ein o
 der andere die Adresse nicht gleich finden\, dann bitte nach dem Obst- und
  Gartenbauverein in Aichenzell suchen. Wir sind dort im Dachgeschoss. Des 
 weiteren sind in der Stadt Feuchtwangen Hinweisschilder aufgestellt.\n\nIn
 stagram: modellbahn_feuchtwangen
CATEGORIES:2 BDEF (öffentliche Veranstaltung)
LOCATION:Vereinsräume Modellbahnfreunde Sulzach Express e.V.\, Aichenzell 
 29\, Feuchtwangen\, Bayern\, 91555\, Mittelfranken\, Deutschland
GEO:49.154549;10.33475
X-APPLE-STRUCTURED-LOCATION;VALUE=URI;X-ADDRESS=Aichenzell 29\, Feuchtwange
 n\, Bayern\, 91555\, Mittelfranken\, Deutschland;X-APPLE-RADIUS=100;X-TITL
 E=Vereinsräume Modellbahnfreunde Sulzach Express e.V.:geo:49.154549,10.33
 475
END:VEVENT
BEGIN:VTIMEZONE
TZID:Europe/Berlin
X-LIC-LOCATION:Europe/Berlin
BEGIN:DAYLIGHT
DTSTART:20240331T030000
TZOFFSETFROM:+0100
TZOFFSETTO:+0200
TZNAME:CEST
END:DAYLIGHT
END:VTIMEZONE
END:VCALENDAR