BEGIN:VCALENDAR
VERSION:2.0
PRODID:-//wp-events-plugin.com//7.2.3.1//EN
TZID:Europe/Berlin
X-WR-TIMEZONE:Europe/Berlin
BEGIN:VEVENT
UID:1221@smv-aktuell.de
DTSTART;TZID=Europe/Berlin:20251122T100000
DTEND;TZID=Europe/Berlin:20251122T130000
DTSTAMP:20250302T163837Z
URL:https://www.smv-aktuell.de/events/parchimer-modellbahnboerse/
SUMMARY:Parchimer Modellbahnbörse
DESCRIPTION:Auch 2025 soll die Parchimer Modellbahnbörse stattfinden. Gebr
 auchte und neuwertige Modellbahnen von privaten und gewerblichen Anbietern
  sowie Zubehör und Literatur werden angeboten.\n\nEin Imbissangebot wird 
 es ebenfalls geben.\n\nWer selbst etwas anbieten möchte\, ist herzlich ei
 ngeladen\, sich unter boerse@modellbahnclub-karow.de anzumelden.
ATTACH;FMTTYPE=image/jpeg:https://www.smv-aktuell.de/wp-content/uploads/20
 25/02/Boerse_2025-pdf.jpg
CATEGORIES:1 SMV (öffentliche Veranstaltung)
LOCATION:Parchim\, Haus der Jugend\, Dragonerstraße 1\, Parchim\, Mecklenb
 urg-Vorpommern\, 1970\, Ludwigslust-Parchim\, Deutschland
GEO:53.41997;11.839601
X-APPLE-STRUCTURED-LOCATION;VALUE=URI;X-ADDRESS=Dragonerstraße 1\, Parchim
 \, Mecklenburg-Vorpommern\, 1970\, Ludwigslust-Parchim\, Deutschland;X-APP
 LE-RADIUS=100;X-TITLE=Parchim\, Haus der Jugend:geo:53.41997,11.839601
END:VEVENT
BEGIN:VTIMEZONE
TZID:Europe/Berlin
X-LIC-LOCATION:Europe/Berlin
BEGIN:STANDARD
DTSTART:20251026T020000
TZOFFSETFROM:+0200
TZOFFSETTO:+0100
TZNAME:CET
END:STANDARD
END:VTIMEZONE
END:VCALENDAR