BEGIN:VCALENDAR
VERSION:2.0
PRODID:-//wp-events-plugin.com//7.2.3.1//EN
TZID:Europe/Berlin
X-WR-TIMEZONE:Europe/Berlin
BEGIN:VEVENT
UID:1408@smv-aktuell.de
DTSTART;TZID=Europe/Berlin:20260215T100000
DTEND;TZID=Europe/Berlin:20260215T170000
DTSTAMP:20260106T163753Z
URL:https://www.smv-aktuell.de/events/offene-modellbahnwerkstatt-2/
SUMMARY:offene Modellbahnwerkstatt
DESCRIPTION:offene Modellbahnwerkstatt\n\nGroße und kleine Gäste sind uns
  in unseren Vereinsräumen in der Energiefabrik Knappenrode zur offenen Mo
 dellbahnwerkstatt herzlich willkommen.&nbsp\;\n\nNeben den wie gewohnt in 
 Betrieb seienden Teil unserer Modellbahnanlagen werkeln wir an ihnen. Zum 
 Plauschen mit unseren Gästen sind wir natürlich trotzdem gern bereit und
  geben ebenso gern Antworten zur großen und kleinen Bahn und gern auch Mo
 dellbahn-Geschenketipps für Geburtstage\, Ostern\, Weihnachten und andere
  Tage\, an denen jemand beschenkt werden soll.\n\nDer Besuch unserer Räum
 e ist natürlich kostenfrei\, jedoch ist für die Energiefabrik der üblic
 he Eintritt zu zahlen.
ATTACH;FMTTYPE=image/jpeg:https://www.smv-aktuell.de/wp-content/uploads/20
 26/01/Verladung-Logo-weiss-1.jpg
CATEGORIES:4 Externe Veranstalter
LOCATION:Energiefabrik Knappenrode\, Werminghoff Str. 20\, Hoyerswerda\, 02
 977\, Deutschland
GEO:51.397281;14.328519
X-APPLE-STRUCTURED-LOCATION;VALUE=URI;X-ADDRESS=Werminghoff Str. 20\, Hoyer
 swerda\, 02977\, Deutschland;X-APPLE-RADIUS=100;X-TITLE=Energiefabrik Knap
 penrode:geo:51.397281,14.328519
END:VEVENT
BEGIN:VTIMEZONE
TZID:Europe/Berlin
X-LIC-LOCATION:Europe/Berlin
BEGIN:STANDARD
DTSTART:20251026T020000
TZOFFSETFROM:+0200
TZOFFSETTO:+0100
TZNAME:CET
END:STANDARD
END:VTIMEZONE
END:VCALENDAR