BEGIN:VCALENDAR
VERSION:2.0
PRODID:-//wp-events-plugin.com//7.2.3.1//EN
TZID:Europe/Berlin
X-WR-TIMEZONE:Europe/Berlin
BEGIN:VEVENT
UID:421@smv-aktuell.de
DTSTART;TZID=Europe/Berlin:20231125T100000
DTEND;TZID=Europe/Berlin:20231126T160000
DTSTAMP:20230311T084638Z
URL:https://www.smv-aktuell.de/events/modelleisenbahnausstellung-im-voradv
 ent/
SUMMARY:Modelleisenbahnausstellung im Voradvent
DESCRIPTION:Unsere jährliche Modelleisenbahnausstellung findet diesmal im 
 Technikmuseum statt. Hier ist es möglich unsere Segmentanlage der Dessau-
 Wörlitzer-Eisenbahn in voller Größe zu zeigen. Weitere Vereinsanlagen i
 n verschiedenen Spurweiten\, sowie eine Gastanlage sind zu sehen. Ein klei
 ner Verkauf von gebrauchten Modellbahnmaterial rundet die Veranstaltung ab
 .
ATTACH;FMTTYPE=image/jpeg:https://www.smv-aktuell.de/wp-content/uploads/20
 23/03/P1020074.jpg
CATEGORIES:1 SMV (öffentliche Veranstaltung)
LOCATION:Technikmuseum "Hugo Junkers" Dessau\, Kühnauer Strasse 161a\, Des
 sau-Roßlau\, Sachsen Anhalt\, 068646\, Deutschland
GEO:51.835431;12.207982
X-APPLE-STRUCTURED-LOCATION;VALUE=URI;X-ADDRESS=Kühnauer Strasse 161a\, De
 ssau-Roßlau\, Sachsen Anhalt\, 068646\, Deutschland;X-APPLE-RADIUS=100;X-
 TITLE=Technikmuseum \"Hugo Junkers\" Dessau:geo:51.835431,12.207982
END:VEVENT
BEGIN:VTIMEZONE
TZID:Europe/Berlin
X-LIC-LOCATION:Europe/Berlin
BEGIN:STANDARD
DTSTART:20231029T020000
TZOFFSETFROM:+0200
TZOFFSETTO:+0100
TZNAME:CET
END:STANDARD
END:VTIMEZONE
END:VCALENDAR