BEGIN:VCALENDAR
VERSION:2.0
PRODID:-//wp-events-plugin.com//7.2.3.1//EN
TZID:Europe/Berlin
X-WR-TIMEZONE:Europe/Berlin
BEGIN:VEVENT
UID:450@smv-aktuell.de
DTSTART;TZID=Europe/Berlin:20231118T130000
DTEND;TZID=Europe/Berlin:20231118T170000
DTSTAMP:20230620T062155Z
URL:https://www.smv-aktuell.de/events/modelleisenbahn-und-modellauto-boers
 e-in-goerlitz-2/
SUMMARY:Modelleisenbahn und Modellauto BÖRSE in Görlitz
DESCRIPTION:Herbstzeit - Bastelzeit! Am 18. November 2023 findet von 13 bis
  17 Uhr unsere Modelleisenbahn - und Modellauto – Börse in Görlitz sta
 tt.\n\nVeranstaltungsort ist das Jugendhaus Wartburg auf der Johannes Wüs
 tenstr. 21\n\nDiese Börse ist die größte ihrer Art in Ostsachsen/Nieder
 schlesien.\n\nEs werden wieder zahlreiche Aussteller\, darunter aus Dresde
 n\, Berlin\, Frankfurt/Oder und aus Polen sowie der Tschechei erwartet. Di
 ese bieten ihre Modelleisenbahnen\, wie auch alte Blechbahnen\, sowie Lok
 ´s und Wagen&nbsp\; mit dazu gehörigen Gleisen an. Bücher und Zeitschri
 ften\, sowie von neueren bis alten Modellauto´s in fast allen Größen ru
 nden das Angebot ab.\n\nWir laden alle Sammler und Bastler recht Herzlich 
 zum stöbern\, schauen und tauschen in das Jugendhaus Wartburg in Görlitz
  ein.\n\nInfos unter: 03581/661748 oder www.modell-bahnhof.de
ATTACH;FMTTYPE=image/jpeg:https://www.smv-aktuell.de/wp-content/uploads/20
 23/06/18.11.2023.jpg
CATEGORIES:4 Externe Veranstalter
LOCATION:Jugendhaus Wartburg\, Johannes Wüstenstr. 21\, Görlitz\, Sachsen
 \, 02826\, Deutschland
GEO:51.15384;14.99445
X-APPLE-STRUCTURED-LOCATION;VALUE=URI;X-ADDRESS=Johannes Wüstenstr. 21\, G
 örlitz\, Sachsen\, 02826\, Deutschland;X-APPLE-RADIUS=100;X-TITLE=Jugendh
 aus Wartburg:geo:51.15384,14.99445
END:VEVENT
BEGIN:VTIMEZONE
TZID:Europe/Berlin
X-LIC-LOCATION:Europe/Berlin
BEGIN:STANDARD
DTSTART:20231029T020000
TZOFFSETFROM:+0200
TZOFFSETTO:+0100
TZNAME:CET
END:STANDARD
END:VTIMEZONE
END:VCALENDAR