BEGIN:VCALENDAR
VERSION:2.0
PRODID:-//wp-events-plugin.com//7.2.3.1//EN
TZID:Europe/Berlin
X-WR-TIMEZONE:Europe/Berlin
BEGIN:VEVENT
UID:491@smv-aktuell.de
DTSTART;TZID=Europe/Berlin:20231126T100000
DTEND;TZID=Europe/Berlin:20231126T160000
DTSTAMP:20230828T134433Z
URL:https://www.smv-aktuell.de/events/modelleisenbahn-auto-u-spielzeugboer
 se-butzbach/
SUMMARY:Modelleisenbahn-\, Auto- u. Spielzeugbörse BUTZBACH
DESCRIPTION:26.11.2023: Modelleisenbahn-\, Auto- und Spielzeugbörse BUTBAC
 H\n\nim Bürgerhaus von 35510 Butzbach\, Gutenbergstr. 16\, von 10 - 16 Uh
 r\n\n&nbsp\;\n\nModelleisenbahn\, Modellautos - alles rund ums Hobby\,\n\n
 mit kleiner Modellanlage und umfangreichem Angebot auf über 1000 qm.\n\n&
 nbsp\;\n\nInfo: A. Baum&nbsp\; 06033 7483390\n\n&nbsp\;\n\nEintritt: Erwac
 hsene 5\,00 EUR\n\n&nbsp\;\n\n&nbsp\;
ATTACH;FMTTYPE=image/jpeg:https://www.smv-aktuell.de/wp-content/uploads/20
 23/08/P1310012-1.jpg
CATEGORIES:4 Externe Veranstalter
LOCATION:Bürgerhaus Butzbach\, Gutenbergstr. 16\, 35510 Butzbach\, Butzbac
 h\, Hessen\, 35510\, Mitte\, Deutschland
GEO:50.433391;8.666419
X-APPLE-STRUCTURED-LOCATION;VALUE=URI;X-ADDRESS=Gutenbergstr. 16\, 35510 Bu
 tzbach\, Butzbach\, Hessen\, 35510\, Mitte\, Deutschland;X-APPLE-RADIUS=10
 0;X-TITLE=Bürgerhaus Butzbach:geo:50.433391,8.666419
END:VEVENT
BEGIN:VTIMEZONE
TZID:Europe/Berlin
X-LIC-LOCATION:Europe/Berlin
BEGIN:STANDARD
DTSTART:20231029T020000
TZOFFSETFROM:+0200
TZOFFSETTO:+0100
TZNAME:CET
END:STANDARD
END:VTIMEZONE
END:VCALENDAR