BEGIN:VCALENDAR
VERSION:2.0
PRODID:-//wp-events-plugin.com//7.2.3.1//EN
TZID:Europe/Berlin
X-WR-TIMEZONE:Europe/Berlin
BEGIN:VEVENT
UID:1269@smv-aktuell.de
DTSTART;TZID=Europe/Berlin:20251108T110000
DTEND;TZID=Europe/Berlin:20251109T170000
DTSTAMP:20250811T063751Z
URL:https://www.smv-aktuell.de/events/modellbahntotal-2025/
SUMMARY:ModellbahnTotal! 2025
DESCRIPTION:Rund zehn Modellbahnanlagen\, riesige Modellbahnbörse\, zwei S
 pielanlagen und Bastelecke für die Nachwuchs-Lokführer\, Infostand des R
 SE-Museum Asbach\, Flugmodellsportclub\, Cafeteria und vieles mehr auf ca.
  1.500 qm in der Jabachhalle\, Donrather Dreieck 1\, 53797 Lohmar. Geöffn
 et am Samstag\, 8.11. von 11:00 bis 18:00 Uhr und Sonntag\, 9.11. von 10:0
 0 bis 17:00 Uhr
ATTACH;FMTTYPE=image/jpeg:https://www.smv-aktuell.de/wp-content/uploads/20
 25/08/ausstellung2025gross.png
CATEGORIES:2 BDEF (öffentliche Veranstaltung)
LOCATION:Jabachhalle Lohmar\, Donrather Dreieck 1\, Lohmar\, NRW\, 53797\, 
 Rhein Sieg Kreis\, Deutschland
GEO:50.846925;7.223088
X-APPLE-STRUCTURED-LOCATION;VALUE=URI;X-ADDRESS=Donrather Dreieck 1\, Lohma
 r\, NRW\, 53797\, Rhein Sieg Kreis\, Deutschland;X-APPLE-RADIUS=100;X-TITL
 E=Jabachhalle Lohmar:geo:50.846925,7.223088
END:VEVENT
BEGIN:VTIMEZONE
TZID:Europe/Berlin
X-LIC-LOCATION:Europe/Berlin
BEGIN:STANDARD
DTSTART:20251026T020000
TZOFFSETFROM:+0200
TZOFFSETTO:+0100
TZNAME:CET
END:STANDARD
END:VTIMEZONE
END:VCALENDAR