BEGIN:VCALENDAR
VERSION:2.0
PRODID:-//wp-events-plugin.com//7.2.3.1//EN
TZID:Europe/Berlin
X-WR-TIMEZONE:Europe/Berlin
BEGIN:VEVENT
UID:1354@smv-aktuell.de
DTSTART;TZID=Europe/Berlin:20261107T100000
DTEND;TZID=Europe/Berlin:20261108T160000
DTSTAMP:20251022T070412Z
URL:https://www.smv-aktuell.de/events/modellbahntage-in-der-adolf-reichwei
 n-schule-limburg-4/
SUMMARY:Modellbahntage in der Adolf- Reichwein Schule Limburg
DESCRIPTION:2 Tage Modellbahn total? Dann kommen sie zu den Limburger Model
 lbahntagen am 07. u. 08.11.2026 in die Adolf Reichwein Schule. Wir zeigen 
 verschiedene Modellbahnen in H0 und TT.\n\nGäste diesmal die TT Modullist
 en aus Wetzlar. Sie zeigen ihrer phantastischen Bahnhof Gräfeneck stand 1
 950 mit der Eisenerz Verladung und weitere Teile ihrer Lahntal- Anlage.&nb
 sp\;\n\nGroße Streckenanlage nach Fremo Norm\, in Zusammenarbeit mit dem 
 MEC Idstein (Brücke Nistertal)\n\nUnser Lok-Dockter anwesend\, bringen si
 e ihre Problemfälle mit.\n\n50 Tische Verkaufsbörse für gebrauchtes Mod
 ellbahnmaterial\, günstige Preise.&nbsp\;\n\nUnser Bistro sorgt für das 
 leibliche Wohl.\n\nKostenlose Parkplätze\n\nMEC Limburg- Hadamar
CATEGORIES:2 BDEF (öffentliche Veranstaltung)
LOCATION:Adolf Reichwein Schule Limburg\, Heinrich-von-Kleist-Straße 14\, 
 Limburg\, Hessen\, 65549\, Kreis Limburg- Weilburg\, Deutschland
GEO:50.374919;8.07551
X-APPLE-STRUCTURED-LOCATION;VALUE=URI;X-ADDRESS=Heinrich-von-Kleist-Straße
  14\, Limburg\, Hessen\, 65549\, Kreis Limburg- Weilburg\, Deutschland;X-A
 PPLE-RADIUS=100;X-TITLE=Adolf Reichwein Schule Limburg:geo:50.374919,8.075
 51
END:VEVENT
BEGIN:VTIMEZONE
TZID:Europe/Berlin
X-LIC-LOCATION:Europe/Berlin
BEGIN:STANDARD
DTSTART:20261025T020000
TZOFFSETFROM:+0200
TZOFFSETTO:+0100
TZNAME:CET
END:STANDARD
END:VTIMEZONE
END:VCALENDAR