BEGIN:VCALENDAR
VERSION:2.0
PRODID:-//wp-events-plugin.com//7.2.3.1//EN
TZID:Europe/Berlin
X-WR-TIMEZONE:Europe/Berlin
BEGIN:VEVENT
UID:1351@smv-aktuell.de
DTSTART;TZID=Europe/Berlin:20251108T100000
DTEND;TZID=Europe/Berlin:20251109T160000
DTSTAMP:20251022T070104Z
URL:https://www.smv-aktuell.de/events/modellbahntage-in-der-adolf-reichwei
 n-schule-limburg-3/
SUMMARY:Modellbahntage in der Adolf- Reichwein Schule Limburg
DESCRIPTION:Am 08. und 09.11 2025 finden wieder unsere Limburger Modellbahn
 tage in der Adolf Reichwein Schule statt. Wir zeigen alles Rund um die Mod
 ellbahn\, Spur H0\, H0e\, H0m\, Z.\n\nAnlagen: Große Straßenbahnanlage d
 es MEC Riederwald\, Kerkerbachbahn Bf Steeden bis Bf. Dehrn\, Stadt Limbur
 g\, Teile unserer Jugendanlage Märklin H0.&nbsp\;\n\nBringen sie gerne ih
 re Sorgenkinder(defekte Loks) mit\, unser Lok Doktor ist vor Ort. Für Spe
 is und Trank ist in unserem Bistro gesorgt.&nbsp\;&nbsp\;\n\n50 Verkaufsti
 sche gebrauchtes Modellbahnmaterial zu günstigen Preisen.\n\nWir freuen u
 ns auf ihren Besuch\n\nMEC Limburg-Hadamar
ATTACH;FMTTYPE=image/jpeg:https://www.smv-aktuell.de/wp-content/uploads/20
 25/10/Image00038.jpg
CATEGORIES:2 BDEF (öffentliche Veranstaltung)
LOCATION:Adolf- Reichwein Schule Limburg\, Heinrich-von-Kleist-Straße 14\,
  Limburg\, Hessen\, 65549\, Kreis Limburg- Weilburg\, Deutschland
GEO:50.374919;8.07551
X-APPLE-STRUCTURED-LOCATION;VALUE=URI;X-ADDRESS=Heinrich-von-Kleist-Straße
  14\, Limburg\, Hessen\, 65549\, Kreis Limburg- Weilburg\, Deutschland;X-A
 PPLE-RADIUS=100;X-TITLE=Adolf- Reichwein Schule Limburg:geo:50.374919,8.07
 551
END:VEVENT
BEGIN:VTIMEZONE
TZID:Europe/Berlin
X-LIC-LOCATION:Europe/Berlin
BEGIN:STANDARD
DTSTART:20251026T020000
TZOFFSETFROM:+0200
TZOFFSETTO:+0100
TZNAME:CET
END:STANDARD
END:VTIMEZONE
END:VCALENDAR