BEGIN:VCALENDAR
VERSION:2.0
PRODID:-//wp-events-plugin.com//7.2.3.1//EN
TZID:Europe/Berlin
X-WR-TIMEZONE:Europe/Berlin
BEGIN:VEVENT
UID:516@smv-aktuell.de
DTSTART;TZID=Europe/Berlin:20240217T100000
DTEND;TZID=Europe/Berlin:20240217T180000
DTSTAMP:20231218T163353Z
URL:https://www.smv-aktuell.de/events/modellbahnschau-2024-02-03/
SUMMARY:Modellbahnschau
DESCRIPTION:Winterferien- das Erlenbis mit der Modellbahn\n\nGroßer Zugbet
 rieb auf der Vereinsanlage. Tolle Zubildungen aus\n\nallen Epochen der Eis
 enbahn. Auch die Olsenbank treibt ihr Unwesen...\n\nDazu Spielecke\, Spiel
 anlagen für die Kinder. Imbißversorgung.
CATEGORIES:1 SMV (öffentliche Veranstaltung)
LOCATION:Haus der Vereine-Alte Schule\, Cunersdorf\,August-Bebel-Str.46\, A
 nnaberg-B.\,OT Cunersdorf\, 09456\, Deutschland
GEO:50.550309;13.005528
X-APPLE-STRUCTURED-LOCATION;VALUE=URI;X-ADDRESS=Cunersdorf\,August-Bebel-St
 r.46\, Annaberg-B.\,OT Cunersdorf\, 09456\, Deutschland;X-APPLE-RADIUS=100
 ;X-TITLE=Haus der Vereine-Alte Schule:geo:50.550309,13.005528
END:VEVENT
BEGIN:VTIMEZONE
TZID:Europe/Berlin
X-LIC-LOCATION:Europe/Berlin
BEGIN:STANDARD
DTSTART:20231029T020000
TZOFFSETFROM:+0200
TZOFFSETTO:+0100
TZNAME:CET
END:STANDARD
END:VTIMEZONE
END:VCALENDAR