BEGIN:VCALENDAR
VERSION:2.0
PRODID:-//wp-events-plugin.com//7.2.3.1//EN
TZID:Europe/Berlin
X-WR-TIMEZONE:Europe/Berlin
BEGIN:VEVENT
UID:942@smv-aktuell.de
DTSTART;TZID=Europe/Berlin:20241012T100000
DTEND;TZID=Europe/Berlin:20241013T170000
DTSTAMP:20241001T070442Z
URL:https://www.smv-aktuell.de/events/modellbahnhoftage-2024/
SUMMARY:Modellbahnhoftage 2024
DESCRIPTION:Mit dem zweiten Wochenende im Oktober haben die Löbauer Modell
 bahnhoftage ihren festen Platz im Terminkalender der Ostsächsischen Eisen
 bahnfreunde. Im ehemaligen Güterboden ziehen die Züge in den Spurweiten 
 N bis G ihre Bahnen.
CATEGORIES:4 Externe Veranstalter
LOCATION:Modellbahnhof Löbau\, Modellbahnhof\, Elisenstraße\, Löbau\, Sa
 chsen\, 02708\, Oberlausitz\, Deutschland
GEO:51.100802;14.66906
X-APPLE-STRUCTURED-LOCATION;VALUE=URI;X-ADDRESS=Modellbahnhof\, Elisenstra
 ße\, Löbau\, Sachsen\, 02708\, Oberlausitz\, Deutschland;X-APPLE-RADIUS=
 100;X-TITLE=Modellbahnhof Löbau:geo:51.100802,14.66906
END:VEVENT
BEGIN:VTIMEZONE
TZID:Europe/Berlin
X-LIC-LOCATION:Europe/Berlin
BEGIN:DAYLIGHT
DTSTART:20240331T030000
TZOFFSETFROM:+0100
TZOFFSETTO:+0200
TZNAME:CEST
END:DAYLIGHT
END:VTIMEZONE
END:VCALENDAR