BEGIN:VCALENDAR
VERSION:2.0
PRODID:-//wp-events-plugin.com//7.2.3.1//EN
TZID:Europe/Berlin
X-WR-TIMEZONE:Europe/Berlin
BEGIN:VEVENT
UID:1378@smv-aktuell.de
DTSTART;TZID=Europe/Berlin:20251115T100000
DTEND;TZID=Europe/Berlin:20251123T180000
DTSTAMP:20251108T084619Z
URL:https://www.smv-aktuell.de/events/modellbahnboerse-freiberg-sa-4/
SUMMARY:Modellbahnbörse Freiberg/Sa\,
DESCRIPTION:Jubiläumsveranstaltung zum 60jährigen Bestehen des Freiberger
  Modelleisenbahnclub 1965e.V.\n\nAusstellungsstücke:\n\ngesamte Gemeinsch
 aftsanlage in Modulbauweise Spur H0/H0e\n\nGemeinschaftsanlage in Modulbau
 weise Spur TT Digital\n\nMesseanlage H0/H0e/H0f\n\nBlechspielzeug Fa. Zeuk
 e / Stadtilm auf einer individuell erstellten Anlage\n\nSpielanlage\n\nBas
 teln für Groß und Klein\n\nÖffnungszeiten:\n\nSa-So-Mi-Sa-So von 10 bis
  18 Uhr\n\nMi-Di\; Do-Fr von 14 bis 18 Uhr
CATEGORIES:4 Externe Veranstalter
LOCATION:Seniorenresidenz RIU Merbachstrasse\, Merbachstrasse\, Freiberg\, 
 Sachsen\, 09599\, Mittelsachsen\, Deutschland
GEO:50.923711;13.334345
X-APPLE-STRUCTURED-LOCATION;VALUE=URI;X-ADDRESS=Merbachstrasse\, Freiberg\,
  Sachsen\, 09599\, Mittelsachsen\, Deutschland;X-APPLE-RADIUS=100;X-TITLE=
 Seniorenresidenz RIU Merbachstrasse:geo:50.923711,13.334345
END:VEVENT
BEGIN:VTIMEZONE
TZID:Europe/Berlin
X-LIC-LOCATION:Europe/Berlin
BEGIN:STANDARD
DTSTART:20251026T020000
TZOFFSETFROM:+0200
TZOFFSETTO:+0100
TZNAME:CET
END:STANDARD
END:VTIMEZONE
END:VCALENDAR