BEGIN:VCALENDAR
VERSION:2.0
PRODID:-//wp-events-plugin.com//7.2.3.1//EN
TZID:Europe/Berlin
X-WR-TIMEZONE:Europe/Berlin
BEGIN:VEVENT
UID:1212@smv-aktuell.de
DTSTART;TZID=Europe/Berlin:20251115T090000
DTEND;TZID=Europe/Berlin:20251123T180000
DTSTAMP:20250211T161146Z
URL:https://www.smv-aktuell.de/events/modellbahnboerse-freiberg-sa-3/
SUMMARY:Modellbahnausstellung Freiberg/Sa\,
DESCRIPTION:Große Modelleisenbahnausstellung zum 60jährigen Jubiläum des
  Freiberger Modelleisenbahnclub 1965e.V.\n\nZur Ausstellung werden folgend
 e Anlagen zu sehen sein:\n\n 	große Gemeinschaftsanlage Spurweite H0/H0e\
 n 	Spur TT Gemeinschaftsanlage\, digitalisiert\n 	Spur H0/H0e Messe-Ausste
 llungsanlage\n 	Spur S bzw. 0 (Null) Anlage mit historischen Modellen der 
 50er und 60er Jahre\n 	Basteln für Kinder\n 	Kinder-Spielanlage\n 	Bildau
 sstellung aller ehemaligen Stellwerke des Freiberger Bahnhofes\n\n&nbsp\;
CATEGORIES:4 Externe Veranstalter
LOCATION:Große Modelleisenbahnausstellung\, Körnerstrasse 2\, Freiberg\, 
 Sachsen\, 09599\, Mittelsachsen\, Deutschland
GEO:50.913939;13.339922
X-APPLE-STRUCTURED-LOCATION;VALUE=URI;X-ADDRESS=Körnerstrasse 2\, Freiberg
 \, Sachsen\, 09599\, Mittelsachsen\, Deutschland;X-APPLE-RADIUS=100;X-TITL
 E=Große Modelleisenbahnausstellung:geo:50.913939,13.339922
END:VEVENT
BEGIN:VTIMEZONE
TZID:Europe/Berlin
X-LIC-LOCATION:Europe/Berlin
BEGIN:STANDARD
DTSTART:20251026T020000
TZOFFSETFROM:+0200
TZOFFSETTO:+0100
TZNAME:CET
END:STANDARD
END:VTIMEZONE
END:VCALENDAR