BEGIN:VCALENDAR
VERSION:2.0
PRODID:-//wp-events-plugin.com//7.2.3.1//EN
TZID:Europe/Berlin
X-WR-TIMEZONE:Europe/Berlin
BEGIN:VEVENT
UID:883@smv-aktuell.de
DTSTART;TZID=Europe/Berlin:20241102T000000
DTEND;TZID=Europe/Berlin:20241103T000000
DTSTAMP:20240806T111553Z
URL:https://www.smv-aktuell.de/events/modellbahnausstellung-zum-pulsnitzer
 -pfefferkuchenmarkt-2024-11-02/
SUMMARY:Modellbahnausstellung zum Pulsnitzer Pfefferkuchenmarkt
DESCRIPTION:Auch in diesem Jahr veranstaltet der MEC Königsbrück/Haselbac
 htal anlässlich des Pulsnitzer Pfefferkuchenmarktes eine Modelleisenbahna
 usstellung.\n\nDie Öffnungszeiten:\n\n 	Freitag\, 01.11.24 von 13 Uhr bis
  18 Uhr\n 	Samstag\, 02.11.24 von 10 Uhr bis 20 Uhr\n 	Sonntag\, 03.11.24 
 von 10 Uhr bis 18 Uhr\n\nAusstellungsort ist der Ratssaal des Ratskellers 
 Pulsnitz. Der Zugang ist für mobilitätseingeschränkte Personen leider n
 icht geeignet.
ATTACH;FMTTYPE=image/jpeg:https://www.smv-aktuell.de/wp-content/uploads/20
 24/08/Pfefferkuchenmarkt24.jpg
CATEGORIES:4 Externe Veranstalter
LOCATION:Ratskeller Pulsnitz\, Am Markt 2\, 01896 Pulsnitz\, Sachsen\, 0189
 6\, Deutschland
GEO:51.182057;14.013255
X-APPLE-STRUCTURED-LOCATION;VALUE=URI;X-ADDRESS=Am Markt 2\, 01896 Pulsnitz
 \, Sachsen\, 01896\, Deutschland;X-APPLE-RADIUS=100;X-TITLE=Ratskeller Pul
 snitz:geo:51.182057,14.013255
END:VEVENT
BEGIN:VTIMEZONE
TZID:Europe/Berlin
X-LIC-LOCATION:Europe/Berlin
BEGIN:STANDARD
DTSTART:20241027T020000
TZOFFSETFROM:+0200
TZOFFSETTO:+0100
TZNAME:CET
END:STANDARD
END:VTIMEZONE
END:VCALENDAR