BEGIN:VCALENDAR
VERSION:2.0
PRODID:-//wp-events-plugin.com//7.2.3.1//EN
TZID:Europe/Berlin
X-WR-TIMEZONE:Europe/Berlin
BEGIN:VEVENT
UID:923@smv-aktuell.de
DTSTART;TZID=Europe/Berlin:20250102T140000
DTEND;TZID=Europe/Berlin:20250102T180000
DTSTAMP:20240923T104458Z
URL:https://www.smv-aktuell.de/events/modellbahnausstellung-modellbahnclub
 -glueck-auf-gersdorf-9/
SUMMARY:Modellbahnausstellung Modellbahnclub „Glück Auf“ Gersdorf
DESCRIPTION:Große Modellbahnausstellung mit Anlagen und Modelle der Nenngr
 ößen N\, TT\, H0\, H0e\, 0\, Gartenbahn IIm\, S
CATEGORIES:1 SMV (öffentliche Veranstaltung)
LOCATION:Kulturzentrum Hessenmühle\, Hauptstraße 193\, Gersdorf\, 09355\,
  Deutschland
GEO:50.75989;12.708647
X-APPLE-STRUCTURED-LOCATION;VALUE=URI;X-ADDRESS=Hauptstraße 193\, Gersdorf
 \, 09355\, Deutschland;X-APPLE-RADIUS=100;X-TITLE=Kulturzentrum Hessenmüh
 le:geo:50.75989,12.708647
END:VEVENT
BEGIN:VTIMEZONE
TZID:Europe/Berlin
X-LIC-LOCATION:Europe/Berlin
BEGIN:STANDARD
DTSTART:20241027T020000
TZOFFSETFROM:+0200
TZOFFSETTO:+0100
TZNAME:CET
END:STANDARD
END:VTIMEZONE
END:VCALENDAR