BEGIN:VCALENDAR
VERSION:2.0
PRODID:-//wp-events-plugin.com//7.2.3.1//EN
TZID:Europe/Berlin
X-WR-TIMEZONE:Europe/Berlin
BEGIN:VEVENT
UID:1302@smv-aktuell.de
DTSTART;TZID=Europe/Berlin:20251207T110000
DTEND;TZID=Europe/Berlin:20251207T170000
DTSTAMP:20251003T082248Z
URL:https://www.smv-aktuell.de/events/modellbahnausstellung-mes03-soest-4/
SUMMARY:Modellbahnausstellung MES03 Soest
DESCRIPTION:
ATTACH;FMTTYPE=image/jpeg:https://www.smv-aktuell.de/wp-content/uploads/20
 25/10/Veranstaltung-07Dez25-MES03.jpeg
CATEGORIES:2 BDEF (öffentliche Veranstaltung)
LOCATION:Vereinsheim MES03\, Neuengeseker Heide 1\, Bad Sassendof-Neuengese
 ke\, NRW\, 59505\, Deutschland
GEO:51.546328;8.202038
X-APPLE-STRUCTURED-LOCATION;VALUE=URI;X-ADDRESS=Neuengeseker Heide 1\, Bad 
 Sassendof-Neuengeseke\, NRW\, 59505\, Deutschland;X-APPLE-RADIUS=100;X-TIT
 LE=Vereinsheim MES03:geo:51.546328,8.202038
END:VEVENT
BEGIN:VTIMEZONE
TZID:Europe/Berlin
X-LIC-LOCATION:Europe/Berlin
BEGIN:STANDARD
DTSTART:20251026T020000
TZOFFSETFROM:+0200
TZOFFSETTO:+0100
TZNAME:CET
END:STANDARD
END:VTIMEZONE
END:VCALENDAR