BEGIN:VCALENDAR
VERSION:2.0
PRODID:-//wp-events-plugin.com//7.2.3.1//EN
TZID:Europe/Berlin
X-WR-TIMEZONE:Europe/Berlin
BEGIN:VEVENT
UID:1444@smv-aktuell.de
DTSTART;TZID=Europe/Berlin:20261120T100000
DTEND;TZID=Europe/Berlin:20261122T180000
DTSTAMP:20260122T102824Z
URL:https://www.smv-aktuell.de/events/modellbahnausstellung-kuehlungsborn-
 modell-im-hotel/
SUMMARY:Modellbahnausstellung Kühlungsborn "Modell im Hotel"
DESCRIPTION:Ein ganzes Wochenende lang steht das Hotel „Aquamarin“ in K
 ühlungsborn unter dem Zeichen der Modellbahn. \nNun ist war es schon die 
 achte Ausstellung und damit ein zur Tradition gewordenes Highlight im Nove
 mber im Kühlungsborner Veranstaltungskalender. Eisenbahnfreunde reisten a
 us ganz Deutschland und darüber hinaus an.\nDie Anlagen sind oft original
 e Nachbildungen\, oder reine Fantasieanlagen\, welche aber die Realität d
 er Bahn widerspiegeln. Viele Anlagen waren auf namhaften Ausstellungen ver
 treten und sind ausgezeichnet worden\, was die hohe Qualität der Ausstell
 ung dokumentiert.\nDieses Jahr werden die Maßstäbe von 1:160 bis 1:22\,5
  vertreten sein. Eine kleine Feldbahnanlage\, diverse N-Anlagen\, verschie
 dene H0e-Schmalspuranlagen\, H0-Anlagen und natürlich die große LGB-Anla
 ge\, auf der selbst gebaute hochdetaillierte Modelle des „Molli“ Vorbi
 ldern ihre Runden zeihen.\non Modellbahner werden Modellbaumethoden vorgef
 ührt. Realistische Bäume anfertigt\, oder auch Modelle gealtert. \nNatü
 rlich bereicherten wir die Ausstellung mit Vorträgen am Freitag und Sonna
 bendabend\, zu der alle Besucher und Hotelgäste herzlich eingeladen waren
 .\nDas Hotel sorgt mit einer Cafeteria für das leibliche Wohl der Besuche
 r und es gibt eine Spielecke\, wo sich die jüngsten Eisenbahnfreunde bet
 ätigen konnten.\nEs lohnte sich an diesem Wochenende im Hotel „Aquamari
 n“ vorbei zu schauen und mit der ständig wachsenden Besucherzahl ist di
 e Ausstellung ein Muss in der Modellbahnszene. Der Dank gilt allen Ausstel
 lern\, dem Team vom Hotel „Aquamarin“ und den Sponsoren\, ohne jene di
 e Veranstaltung nicht stattfinden könnte.\n„Modell im Hotel“ ist halt
  was Besonderes!\nM.G.\nÖffnungszeiten\nFreitag: 13.00 - 18.00 Uhr\nSonna
 bend: 10.00 - 18.00 Uhr\nSonntag: 10.00 - 17.00 Uhr
ATTACH;FMTTYPE=image/jpeg:https://www.smv-aktuell.de/wp-content/uploads/20
 26/01/Briefkopf-2026-Ausstellung.jpg
CATEGORIES:4 Externe Veranstalter
LOCATION:Hotel Aquamarin\, Hermannstraße 33\, Kühlungsborn \, Deutschland
 \, 18225\, Deutschland
GEO:54.151839;11.734345
X-APPLE-STRUCTURED-LOCATION;VALUE=URI;X-ADDRESS=Hermannstraße 33\, Kühlun
 gsborn \, Deutschland\, 18225\, Deutschland;X-APPLE-RADIUS=100;X-TITLE=Hot
 el Aquamarin:geo:54.151839,11.734345
END:VEVENT
BEGIN:VTIMEZONE
TZID:Europe/Berlin
X-LIC-LOCATION:Europe/Berlin
BEGIN:STANDARD
DTSTART:20261025T020000
TZOFFSETFROM:+0200
TZOFFSETTO:+0100
TZNAME:CET
END:STANDARD
END:VTIMEZONE
END:VCALENDAR