BEGIN:VCALENDAR
VERSION:2.0
PRODID:-//wp-events-plugin.com//7.2.3.1//EN
TZID:Europe/Berlin
X-WR-TIMEZONE:Europe/Berlin
BEGIN:VEVENT
UID:1395@smv-aktuell.de
DTSTART;TZID=Europe/Berlin:20251227T100000
DTEND;TZID=Europe/Berlin:20251228T170000
DTSTAMP:20251202T081647Z
URL:https://www.smv-aktuell.de/events/modellbahnausstellung-in-bad-doberan
 /
SUMMARY:Modellbahnausstellung in Bad Doberan
DESCRIPTION:Mit unserer TT-Arbeitsgruppe als Ausrichter veranstaltet der Ka
 row-Lübzer Modellbahnclub eine große Modellbahnausstellung in einer 2-Fe
 ld-Sporthalle. Unter anderem werden die H0-Klubanlage und eine große TT-H
 eimanlage sowie eine Spur-Nullanlage unseres Vereins zu sehen sein. Gastau
 ssteller bringen\, passend zum Ort\, Anlagen und Schaustücke über den Mo
 lli mit.\n\nEin&nbsp\; Modellbahnhändler bietet neue und gebrauchte Model
 lbahnen sowie Zubehör an. Ein Imbissangebot sorgt für eine Stärkung.
ATTACH;FMTTYPE=image/jpeg:https://www.smv-aktuell.de/wp-content/uploads/20
 25/12/DBR-2025.jpg
CATEGORIES:1 SMV (öffentliche Veranstaltung)
LOCATION:Bad Doberan\, Sporthalle am Busbahnhof\, Beethovenstraße (Busbahn
 hof)\, Bad Doberan\, Mecklenburg-Vorpommern\, 18209\, Deutschland
GEO:54.108215;11.905062
X-APPLE-STRUCTURED-LOCATION;VALUE=URI;X-ADDRESS=Beethovenstraße (Busbahnho
 f)\, Bad Doberan\, Mecklenburg-Vorpommern\, 18209\, Deutschland;X-APPLE-RA
 DIUS=100;X-TITLE=Bad Doberan\, Sporthalle am Busbahnhof:geo:54.108215,11.9
 05062
END:VEVENT
BEGIN:VTIMEZONE
TZID:Europe/Berlin
X-LIC-LOCATION:Europe/Berlin
BEGIN:STANDARD
DTSTART:20251026T020000
TZOFFSETFROM:+0200
TZOFFSETTO:+0100
TZNAME:CET
END:STANDARD
END:VTIMEZONE
END:VCALENDAR