BEGIN:VCALENDAR
VERSION:2.0
PRODID:-//wp-events-plugin.com//7.2.3.1//EN
TZID:Europe/Berlin
X-WR-TIMEZONE:Europe/Berlin
BEGIN:VEVENT
UID:1316@smv-aktuell.de
DTSTART;TZID=Europe/Berlin:20251122T093000
DTEND;TZID=Europe/Berlin:20251123T180000
DTSTAMP:20251013T191237Z
URL:https://www.smv-aktuell.de/events/modellbahnausstellung-im-freizeitzen
 trum-annaparkhuette-3/
SUMMARY:Modellbahnausstellung im Freizeitzentrum Annaparkhütte
DESCRIPTION:Hallo Zusammen\n\nDemnächst ist es wieder soweit. An den Woche
 nenden 22.11. / 23.11. und 29.11. / 30.11.2025 findet unsere Modellbahnaus
 stellung im Freizeitzentrum Annaparkhütte 08393 Meerane\, Promenadenweg 2
 1 statt. Und das erwartet unsere Besucher:\nH0 und TT-Clubanlage\nH0-Länd
 erbahnanlage\nFeldbahnbetrieb\nVerkauf von Modellbahnmaterial aus 2. Hand\
 nDie Öffnungszeiten sind von 9:30 bis 18:00 Uhr.\nFür das leibliche Wohl
  ist natürlich auch gesorgt.\n\nC\n\nAlso bis bald\, Thomas
ATTACH;FMTTYPE=image/jpeg:https://www.smv-aktuell.de/wp-content/uploads/20
 25/10/Bildschirmfoto-2025-08-27-um-19.29.28.png
CATEGORIES:4 Externe Veranstalter
LOCATION:Freizeitzentrum Annaparkhütte 08393 Meerane\, Annaparkhütte\, Pr
 omenadenweg 21\, Meerane\, Sachsen\,  08393 \, Deutschland
GEO:50.842118;12.470805
X-APPLE-STRUCTURED-LOCATION;VALUE=URI;X-ADDRESS=Annaparkhütte\, Promenaden
 weg 21\, Meerane\, Sachsen\,  08393 \, Deutschland;X-APPLE-RADIUS=100;X-TI
 TLE=Freizeitzentrum Annaparkhütte 08393 Meerane:geo:50.842118,12.470805
END:VEVENT
BEGIN:VTIMEZONE
TZID:Europe/Berlin
X-LIC-LOCATION:Europe/Berlin
BEGIN:STANDARD
DTSTART:20251026T020000
TZOFFSETFROM:+0200
TZOFFSETTO:+0100
TZNAME:CET
END:STANDARD
END:VTIMEZONE
END:VCALENDAR