BEGIN:VCALENDAR
VERSION:2.0
PRODID:-//wp-events-plugin.com//7.2.3.1//EN
TZID:Europe/Berlin
X-WR-TIMEZONE:Europe/Berlin
BEGIN:VEVENT
UID:1099@smv-aktuell.de
DTSTART;TZID=Europe/Berlin:20250406T100000
DTEND;TZID=Europe/Berlin:20250406T170000
DTSTAMP:20241108T071340Z
URL:https://www.smv-aktuell.de/events/modellbahnausstellung-82/
SUMMARY:Modellbahnausstellung
DESCRIPTION:Modell der Spessartrampe mit Schiebebetrieb.\n\nModell der Kahl
 grundbahn. Steuerung über Handy\, kleine Lokführer/Innen bekommen ein Di
 plom!
CATEGORIES:2 BDEF (öffentliche Veranstaltung)
LOCATION:Vereinsheim Eisenbahnfreunde Kahlgrund\, Am Sportgelände 5\, Sch
 öllkrippen\, Bayern\, 63825\, Unterfranken\, Deutschland
GEO:50.083843;9.254429
X-APPLE-STRUCTURED-LOCATION;VALUE=URI;X-ADDRESS=Am Sportgelände 5\, Schöl
 lkrippen\, Bayern\, 63825\, Unterfranken\, Deutschland;X-APPLE-RADIUS=100;
 X-TITLE=Vereinsheim Eisenbahnfreunde Kahlgrund:geo:50.083843,9.254429
END:VEVENT
BEGIN:VTIMEZONE
TZID:Europe/Berlin
X-LIC-LOCATION:Europe/Berlin
BEGIN:DAYLIGHT
DTSTART:20250330T030000
TZOFFSETFROM:+0100
TZOFFSETTO:+0200
TZNAME:CEST
END:DAYLIGHT
END:VTIMEZONE
END:VCALENDAR