BEGIN:VCALENDAR
VERSION:2.0
PRODID:-//wp-events-plugin.com//7.2.3.1//EN
TZID:Europe/Berlin
X-WR-TIMEZONE:Europe/Berlin
BEGIN:VEVENT
UID:373@smv-aktuell.de
DTSTART;TZID=Europe/Berlin:20221210T100000
DTEND;TZID=Europe/Berlin:20221210T140000
DTSTAMP:20221202T123420Z
URL:https://www.smv-aktuell.de/events/modellbahnausstellung-27/
SUMMARY:Modellbahnausstellung
DESCRIPTION:Wir laden zum traditionellen Tag der offenen Tür in unser Vere
 insheim in Karow/Meckl. ein. Bei Kaffee oder Glühwein und etwas Gebäck i
 st Zeit für Fachsimpeleien. Die H0-Klubanlage ist aufgebaut\, so dass Ihr
 e Schätzchen sich über etwas Auslauf freuen können - egal ob analog ode
 r digital gesteuert. Die Bahnsteiglängen reichen für Schnellzüge mit bi
 s zu 12 Wagen!
ATTACH;FMTTYPE=image/jpeg:https://www.smv-aktuell.de/wp-content/uploads/20
 22/12/TofT-Karow_2022-12-10.jpg
CATEGORIES:1 SMV (öffentliche Veranstaltung)
LOCATION:Vereinsheim Karow-Lübzer Modellbahnclub e.V.\, Parkstraße\, Plau
  am See OT Karow\, 19395\, Mecklenburg-Vorpommern\, Deutschland
GEO:53.535256;12.256136
X-APPLE-STRUCTURED-LOCATION;VALUE=URI;X-ADDRESS=Parkstraße\, Plau am See O
 T Karow\, 19395\, Mecklenburg-Vorpommern\, Deutschland;X-APPLE-RADIUS=100;
 X-TITLE=Vereinsheim Karow-Lübzer Modellbahnclub e.V.:geo:53.535256,12.256
 136
END:VEVENT
BEGIN:VTIMEZONE
TZID:Europe/Berlin
X-LIC-LOCATION:Europe/Berlin
BEGIN:STANDARD
DTSTART:20221030T020000
TZOFFSETFROM:+0200
TZOFFSETTO:+0100
TZNAME:CET
END:STANDARD
END:VTIMEZONE
END:VCALENDAR