BEGIN:VCALENDAR
VERSION:2.0
PRODID:-//wp-events-plugin.com//7.2.3.1//EN
TZID:Europe/Berlin
X-WR-TIMEZONE:Europe/Berlin
BEGIN:VEVENT
UID:360@smv-aktuell.de
DTSTART;TZID=Europe/Berlin;VALUE=DATE:20230128
DTEND;TZID=Europe/Berlin;VALUE=DATE:20230130
DTSTAMP:20221117T063842Z
URL:https://www.smv-aktuell.de/events/modellbahnausstellung-23/
SUMMARY:Modellbahnausstellung
DESCRIPTION:Am 28. und 29. Januar öffnet der Modelleisenbahnclub Weida e. 
 V. erneut wieder seine Vereinsräume zur Modellbahnausstellung. Große und
  kleine Besucher sind jeweils von 10:00 - 18:00 Uhr im Bürgerhaus Weida\,
  Neustädter Str. 2 (linker Seiteneingang) gern gesehen.\nZu sehen ist uns
 ere HO-Modulanlage und die TT- Anlage „Burgstein“ mit welcher wir im N
 ovember 2021 auf der Intermodellbau in Dortmund vertreten waren. Da es fü
 r uns eine Ehre war dort teilnehmen zu dürfen haben wir im Vorfeld die Ge
 ländegestaltung weiter optimiert und diverse Details verwirklicht. Um so 
 erfreulicher war für uns dann die Vorstellung unserer Anlage in der Zeits
 chrift „Modelleisenbahner“. Überaschen wollen wir unser Publikum auch
  dieses mal mit einer Gastanlage.
CATEGORIES:4 Externe Veranstalter
LOCATION:Bürgerhaus Weida\, Neustädter Straße 2\, Weida\, Thüringen\, 0
 7570\, Gera-Greiz\, Deutschland
GEO:50.774475;12.0576
X-APPLE-STRUCTURED-LOCATION;VALUE=URI;X-ADDRESS=Neustädter Straße 2\, Wei
 da\, Thüringen\, 07570\, Gera-Greiz\, Deutschland;X-APPLE-RADIUS=100;X-TI
 TLE=Bürgerhaus Weida:geo:50.774475,12.0576
END:VEVENT
BEGIN:VTIMEZONE
TZID:Europe/Berlin
X-LIC-LOCATION:Europe/Berlin
BEGIN:STANDARD
DTSTART:20221030T020000
TZOFFSETFROM:+0200
TZOFFSETTO:+0100
TZNAME:CET
END:STANDARD
END:VTIMEZONE
END:VCALENDAR