BEGIN:VCALENDAR
VERSION:2.0
PRODID:-//wp-events-plugin.com//7.2.3.1//EN
TZID:Europe/Berlin
X-WR-TIMEZONE:Europe/Berlin
BEGIN:VEVENT
UID:343@smv-aktuell.de
DTSTART;TZID=Europe/Berlin:20221228T130000
DTEND;TZID=Europe/Berlin:20221228T190000
DTSTAMP:20221105T082559Z
URL:https://www.smv-aktuell.de/events/modellbahnausstellung-21/
SUMMARY:Modellbahnausstellung
DESCRIPTION:Traditionelle Weihnachtsausstellung im Lokschuppen: H0/H0e-Klub
 anlage\, Dioramen\, Gartenbahn zum Spielen für die kleinen Gäste\, Gastr
 onomie im Lokschuppen und im Personenwagen des Schmalspurdenkmales
CATEGORIES:1 SMV (öffentliche Veranstaltung)
LOCATION:Lokschuppen auf dem ehemaligen Bahnhof\, Bahnhofstraße 13\, Geyer
 \, Sachsen\, 09468\, Deutschland
GEO:50.626485;12.924868
X-APPLE-STRUCTURED-LOCATION;VALUE=URI;X-ADDRESS=Bahnhofstraße 13\, Geyer\,
  Sachsen\, 09468\, Deutschland;X-APPLE-RADIUS=100;X-TITLE=Lokschuppen auf 
 dem ehemaligen Bahnhof:geo:50.626485,12.924868
END:VEVENT
BEGIN:VTIMEZONE
TZID:Europe/Berlin
X-LIC-LOCATION:Europe/Berlin
BEGIN:STANDARD
DTSTART:20221030T020000
TZOFFSETFROM:+0200
TZOFFSETTO:+0100
TZNAME:CET
END:STANDARD
END:VTIMEZONE
END:VCALENDAR