BEGIN:VCALENDAR
VERSION:2.0
PRODID:-//wp-events-plugin.com//7.2.3.1//EN
TZID:Europe/Berlin
X-WR-TIMEZONE:Europe/Berlin
BEGIN:VEVENT
UID:1439@smv-aktuell.de
DTSTART;TZID=Europe/Berlin:20260314T100000
DTEND;TZID=Europe/Berlin:20260315T170000
DTSTAMP:20260116T080603Z
URL:https://www.smv-aktuell.de/events/modellbahnausstellung-2026-im-buerge
 rhaus-muehltroff-2/
SUMMARY:Modellbahnausstellung 2026 im Bürgerhaus Mühltroff
DESCRIPTION:Geöffnet an 2 Wochenenden:\n\n07.03. bis 08.03.2026\n\n14.03. 
 bis 15.03.2026\n\nSamstag &amp\; Sonntag von 10.00 bis 17.00 Uhr\n\n 	gro
 ße Ausstellung im Bürgerhaus Mühltroff\n 	Anlagen verschiedenster Ausst
 eller &amp\; Spurweiten\n
ATTACH;FMTTYPE=image/jpeg:https://www.smv-aktuell.de/wp-content/uploads/20
 26/01/Ausstellung-2026.jpg
CATEGORIES:1 SMV (öffentliche Veranstaltung)
LOCATION:Bürgerhaus Mühltroff\, Schützenstraße 26\, Mühltroff\, Sachse
 n\, 07919\, Vogtland\, Deutschland
GEO:50.535283;11.925579
X-APPLE-STRUCTURED-LOCATION;VALUE=URI;X-ADDRESS=Schützenstraße 26\, Mühl
 troff\, Sachsen\, 07919\, Vogtland\, Deutschland;X-APPLE-RADIUS=100;X-TITL
 E=Bürgerhaus Mühltroff:geo:50.535283,11.925579
END:VEVENT
BEGIN:VTIMEZONE
TZID:Europe/Berlin
X-LIC-LOCATION:Europe/Berlin
BEGIN:STANDARD
DTSTART:20251026T020000
TZOFFSETFROM:+0200
TZOFFSETTO:+0100
TZNAME:CET
END:STANDARD
END:VTIMEZONE
END:VCALENDAR