BEGIN:VCALENDAR
VERSION:2.0
PRODID:-//wp-events-plugin.com//7.2.3.1//EN
TZID:Europe/Berlin
X-WR-TIMEZONE:Europe/Berlin
BEGIN:VEVENT
UID:296@smv-aktuell.de
DTSTART;TZID=Europe/Berlin:20221119T100000
DTEND;TZID=Europe/Berlin:20221120T170000
DTSTAMP:20221002T060058Z
URL:https://www.smv-aktuell.de/events/modellbahnausstellung-15/
SUMMARY:Modellbahnausstellung
DESCRIPTION:Unser Gäste\nDer MEV Landsberg am Lech e. V. bringt seine Epoc
 he I Anlage mit.\nGünther Poppe aus Bremen präsentiert die Inselbahn Spi
 ekeroog\nUnsere Freunde aus Oberbayern (Finsterwalder) und Sven Seidel\nst
 ellen diverse Dioramen aus und geben Modellbau Tipps.\nDieter Kühlinger k
 ommt mit seiner privaten RhB-Anlage.\nMarcus &amp\; Patricia Hammer zeigen
  „ältere“ Blechspielbahnen.\nDie Vereinsmitglieder Rainer &amp\; Marc
 el Höge (Segment-/Modulanlage)\,\nsowie Jörg Hiller (englischen Stil) st
 ellen Ihre privaten Anlagen aus.\nNatürlich wird es weiteres Sehenswertes
  zu bestaunen geben\, ... kommt vorbei ...\nVereinsanlagen\nH0-Anlage\nZwe
 igleisige Modulanlage mit Car-System und Freilichtkino mit eingebautem Bea
 mer.\n\nN-Anlage\nZweigleisige Modulanlage mit einem Gallier- und Schlumpf
 dorf\,\nsowie der Hochbrücke über den Nord- Ostseekanal in Rendsburg sam
 t Schwebefähre\n\nOldie-Anlage\nAnalog gesteuerte Segmentanlage mit Gleis
 bildstellpult im Stile der 1950/60er Jahre.\n\nJuniorteam\nDie im Bau befi
 ndliche zweigleisige N-Anlage mit Nebenbahn unserer Jugendabteilung\n\nEs 
 wird auch wieder eine kleine Börse und Tombola geben und für das leiblic
 he Wohl wird ebenfalls gesorgt sein.\n\nDer MEC Pfullendorf freut sich auf
  ihren Besuch
ATTACH;FMTTYPE=image/jpeg:https://www.smv-aktuell.de/wp-content/uploads/20
 22/09/MECLogo.jpg
CATEGORIES:2 BDEF (öffentliche Veranstaltung)
LOCATION:Stadthalle Pfullendorf\, Jakobsweg 2\, Pfullendorf\, BW\, 88630\, 
 Deutschland
GEO:47.919891;9.257468
X-APPLE-STRUCTURED-LOCATION;VALUE=URI;X-ADDRESS=Jakobsweg 2\, Pfullendorf\,
  BW\, 88630\, Deutschland;X-APPLE-RADIUS=100;X-TITLE=Stadthalle Pfullendor
 f:geo:47.919891,9.257468
END:VEVENT
BEGIN:VTIMEZONE
TZID:Europe/Berlin
X-LIC-LOCATION:Europe/Berlin
BEGIN:STANDARD
DTSTART:20221030T020000
TZOFFSETFROM:+0200
TZOFFSETTO:+0100
TZNAME:CET
END:STANDARD
END:VTIMEZONE
END:VCALENDAR