BEGIN:VCALENDAR
VERSION:2.0
PRODID:-//wp-events-plugin.com//7.2.3.1//EN
TZID:Europe/Berlin
X-WR-TIMEZONE:Europe/Berlin
BEGIN:VEVENT
UID:1443@smv-aktuell.de
DTSTART;TZID=Europe/Berlin:20261011T100000
DTEND;TZID=Europe/Berlin:20261011T170000
DTSTAMP:20260119T160134Z
URL:https://www.smv-aktuell.de/events/modellbahnausstellung-113/
SUMMARY:Modellbahnausstellung
DESCRIPTION:Faszination Modelleisenbahn - Die 4.&nbsp\;
ATTACH;FMTTYPE=image/jpeg:https://www.smv-aktuell.de/wp-content/uploads/20
 26/01/Handzettel-MBO26-3.jpg
CATEGORIES:4 Externe Veranstalter
LOCATION:"das O"\, Freiherr-vom-Stein-Promenade 1C\, Oschatz\, Sachsen\, 04
 758\, Sachsen\, Deutschland
GEO:51.294434;13.111332
X-APPLE-STRUCTURED-LOCATION;VALUE=URI;X-ADDRESS=Freiherr-vom-Stein-Promenad
 e 1C\, Oschatz\, Sachsen\, 04758\, Sachsen\, Deutschland;X-APPLE-RADIUS=10
 0;X-TITLE=\"das O\":geo:51.294434,13.111332
END:VEVENT
BEGIN:VTIMEZONE
TZID:Europe/Berlin
X-LIC-LOCATION:Europe/Berlin
BEGIN:DAYLIGHT
DTSTART:20260329T030000
TZOFFSETFROM:+0100
TZOFFSETTO:+0200
TZNAME:CEST
END:DAYLIGHT
END:VTIMEZONE
END:VCALENDAR