BEGIN:VCALENDAR
VERSION:2.0
PRODID:-//wp-events-plugin.com//7.2.3.1//EN
TZID:Europe/Berlin
X-WR-TIMEZONE:Europe/Berlin
BEGIN:VEVENT
UID:375@smv-aktuell.de
DTSTART;TZID=Europe/Berlin:20221218T110000
DTEND;TZID=Europe/Berlin:20221218T170000
DTSTAMP:20221207T181457Z
URL:https://www.smv-aktuell.de/events/modellbahn-zur-weihnachtszeit-2/
SUMMARY:Modellbahn zur Weihnachtszeit
DESCRIPTION:Weihnachten ohne Modelleisenbahn - das geht nicht!\n\nGezeigt w
 erden Outdoor eine kleine Gartenbahn und Indoor eine kleinen digitale H0-B
 ahn sowie eine analoge H0-Bahn sowie eine 4m digitale TT-Anlage. Das Verei
 nsheim ist weihnachtlich herausgeputzt. Für das leibliche Wohl wird gesor
 gt.\n\nZeitgleich findet "Advent im Park 2022" unweit vom Vereinsheim im K
 urpark statt. Weiter Infos unter "https://www.bodetal.de/event/advent-im-p
 ark-2022/"
ATTACH;FMTTYPE=image/jpeg:https://www.smv-aktuell.de/wp-content/uploads/20
 22/12/0-1.jpg
CATEGORIES:1 SMV (öffentliche Veranstaltung)
LOCATION:Vereinsheim "Zur Bahnmeisterei"\, Bahnhofstraße 2a\, Thale\, Sach
 sen-Anhalt\, 06502\, Deutschland
GEO:51.747412;11.03306
X-APPLE-STRUCTURED-LOCATION;VALUE=URI;X-ADDRESS=Bahnhofstraße 2a\, Thale\,
  Sachsen-Anhalt\, 06502\, Deutschland;X-APPLE-RADIUS=100;X-TITLE=Vereinshe
 im \"Zur Bahnmeisterei\":geo:51.747412,11.03306
END:VEVENT
BEGIN:VTIMEZONE
TZID:Europe/Berlin
X-LIC-LOCATION:Europe/Berlin
BEGIN:STANDARD
DTSTART:20221030T020000
TZOFFSETFROM:+0200
TZOFFSETTO:+0100
TZNAME:CET
END:STANDARD
END:VTIMEZONE
END:VCALENDAR