BEGIN:VCALENDAR
VERSION:2.0
PRODID:-//wp-events-plugin.com//7.2.3.1//EN
TZID:Europe/Berlin
X-WR-TIMEZONE:Europe/Berlin
BEGIN:VEVENT
UID:429@smv-aktuell.de
DTSTART;TZID=Europe/Berlin:20230409T100000
DTEND;TZID=Europe/Berlin:20230409T170000
DTSTAMP:20230405T165416Z
URL:https://www.smv-aktuell.de/events/modellbahn-zu-ostern-2/
SUMMARY:Modellbahn zu Ostern
DESCRIPTION:Modellbahnausstellung mit Ostereiersuchen\n\nModellbahnmuseum\n
 \nEisenbahndekoration\n\nModellbauausstellung u.v.m.\n\nH0-Anlage erst ab 
 13 Uhr geöffnet
ATTACH;FMTTYPE=image/jpeg:https://www.smv-aktuell.de/wp-content/uploads/20
 23/04/2023-Plakat-gemeinsam-Ostern-1.jpg
CATEGORIES:3 ThEM (öffentliche Veranstaltung)
LOCATION:Naumburg/Saale\, Kroppentalstr.15\, Naumburg/Saale\, Sachsen-Anhal
 t\, 06618\, Mitteldeutschland\, Deutschland
GEO:51.151029;11.830057
X-APPLE-STRUCTURED-LOCATION;VALUE=URI;X-ADDRESS=Kroppentalstr.15\, Naumburg
 /Saale\, Sachsen-Anhalt\, 06618\, Mitteldeutschland\, Deutschland;X-APPLE-
 RADIUS=100;X-TITLE=Naumburg/Saale:geo:51.151029,11.830057
END:VEVENT
BEGIN:VTIMEZONE
TZID:Europe/Berlin
X-LIC-LOCATION:Europe/Berlin
BEGIN:DAYLIGHT
DTSTART:20230326T030000
TZOFFSETFROM:+0100
TZOFFSETTO:+0200
TZNAME:CEST
END:DAYLIGHT
END:VTIMEZONE
END:VCALENDAR