BEGIN:VCALENDAR
VERSION:2.0
PRODID:-//wp-events-plugin.com//7.2.3.1//EN
TZID:Europe/Berlin
X-WR-TIMEZONE:Europe/Berlin
BEGIN:VEVENT
UID:1431@smv-aktuell.de
DTSTART;TZID=Europe/Berlin:20260221T100000
DTEND;TZID=Europe/Berlin:20260222T180000
DTSTAMP:20260109T194301Z
URL:https://www.smv-aktuell.de/events/modellbahn-und-schnitzausstellung-2/
SUMMARY:Modellbahn- und Schnitzausstellung
DESCRIPTION:
ATTACH;FMTTYPE=image/jpeg:https://www.smv-aktuell.de/wp-content/uploads/20
 26/01/Plakat-feb.-1.jpg
CATEGORIES:1 SMV (öffentliche Veranstaltung)
LOCATION:Vereinshaus \\"Zur Quelle\\" Jahnsbach\, Straße der Freundschaft 
 86\, Thum OT Jahnsbach\, Sachsen\, 09419\, Deutschland
GEO:50.665867;12.930658
X-APPLE-STRUCTURED-LOCATION;VALUE=URI;X-ADDRESS=Straße der Freundschaft 86
 \, Thum OT Jahnsbach\, Sachsen\, 09419\, Deutschland;X-APPLE-RADIUS=100;X-
 TITLE=Vereinshaus \\\"Zur Quelle\\\" Jahnsbach:geo:50.665867,12.930658
END:VEVENT
BEGIN:VTIMEZONE
TZID:Europe/Berlin
X-LIC-LOCATION:Europe/Berlin
BEGIN:STANDARD
DTSTART:20251026T020000
TZOFFSETFROM:+0200
TZOFFSETTO:+0100
TZNAME:CET
END:STANDARD
END:VTIMEZONE
END:VCALENDAR