BEGIN:VCALENDAR
VERSION:2.0
PRODID:-//wp-events-plugin.com//7.2.3.1//EN
TZID:Europe/Berlin
X-WR-TIMEZONE:Europe/Berlin
BEGIN:VEVENT
UID:81@smv-aktuell.de
DTSTART;TZID=Europe/Berlin:20220528T100000
DTEND;TZID=Europe/Berlin:20220528T190000
DTSTAMP:20220328T071720Z
URL:https://www.smv-aktuell.de/events/modellbahn-modellbautage-2/
SUMMARY:Modellbahn- &amp\; Modellbautage
DESCRIPTION:Modellbahn- und Modellbau-Ausstellung - Im Spartenheim der Gart
 enfreunde "Siebenspringe" unweit der Mehrzweckhalle in Thale in der Weiner
 tstraße 38 im Stadtteil "Auf den Höhen" in Thale.\n\nZu sehen sind neben
  Gartenbahnen natürlich auch weitere&nbsp\; Modellbahnanlagen anderer Spu
 rweiten. Die Freunde vom Schiffsmodellsportclub Thale e.V.&nbsp\; werden d
 ie Ausstellung mit ihren Modellen zu Wasser und zu Land bereichern. Eine T
 ombola und Bastelstraße runden die Veranstaltung ab. Für das leibliche W
 ohl wird gesorgt.&nbsp\;\n\nDer Veranstaltungsort liegt etwas versteckt.&n
 bsp\; Die Zufahrt erfolgt über die Straße "Tunnelweg". Das Vereinsheim "
 Siebenspringe" liegt hinter dem Heizhaus etwas unterhalb der Bergkuppe.
ATTACH;FMTTYPE=image/jpeg:https://www.smv-aktuell.de/wp-content/uploads/20
 22/03/Plakat-Bild-4.jpg
CATEGORIES:1 SMV (öffentliche Veranstaltung)
LOCATION:Vereinsheim "Siebenspringe"\, Tunnelweg\, Thale\, Sachsen-Anhalt\,
  06502\, Deutschland
GEO:51.74856;11.057188
X-APPLE-STRUCTURED-LOCATION;VALUE=URI;X-ADDRESS=Tunnelweg\, Thale\, Sachsen
 -Anhalt\, 06502\, Deutschland;X-APPLE-RADIUS=100;X-TITLE=Vereinsheim \"Sie
 benspringe\":geo:51.74856,11.057188
END:VEVENT
BEGIN:VTIMEZONE
TZID:Europe/Berlin
X-LIC-LOCATION:Europe/Berlin
BEGIN:DAYLIGHT
DTSTART:20220327T030000
TZOFFSETFROM:+0100
TZOFFSETTO:+0200
TZNAME:CEST
END:DAYLIGHT
END:VTIMEZONE
END:VCALENDAR