BEGIN:VCALENDAR
VERSION:2.0
PRODID:-//wp-events-plugin.com//7.2.3.1//EN
TZID:Europe/Berlin
X-WR-TIMEZONE:Europe/Berlin
BEGIN:VEVENT
UID:1225@smv-aktuell.de
DTSTART;TZID=Europe/Berlin:20250406T130000
DTEND;TZID=Europe/Berlin:20250406T170000
DTSTAMP:20250321T182050Z
URL:https://www.smv-aktuell.de/events/modellbahn-fahrtag/
SUMMARY:Modellbahn-Fahrtag
DESCRIPTION:Am Sonntag\, den 6. April 2025\, laden wir alle Eisenbahnfreund
 e und Modellbahn-Begeisterten herzlich zu unserem Modellbahn-Fahrtag ein!\
 nIn unseren Räumlichkeiten in den Nelson-Baracks in Neu-Ulm erwartet Sie 
 eine faszinierende Miniaturwelt mit liebevoll gestalteten Landschaften und
  detailreichen Zügen.\nAuf unserer kleinen Modellbahnbörse können Sie d
 as ein oder andere Schnäppchen machen.\nFür das leibliche Wohl ist mit K
 affee und selbst gebackenen Kuchen gesorgt.
ATTACH;FMTTYPE=image/jpeg:https://www.smv-aktuell.de/wp-content/uploads/20
 25/03/ulm-pdf.jpg
CATEGORIES:2 BDEF (öffentliche Veranstaltung)
LOCATION:Modellbahnfreunde Ulm/Neu-Ulm e.V.\, Hirthstraße 3\, Neu-Ulm\, Ba
 den-Württemberg\, 89231\, Deutschland
GEO:48.391463;10.014171
X-APPLE-STRUCTURED-LOCATION;VALUE=URI;X-ADDRESS=Hirthstraße 3\, Neu-Ulm\, 
 Baden-Württemberg\, 89231\, Deutschland;X-APPLE-RADIUS=100;X-TITLE=Modell
 bahnfreunde Ulm/Neu-Ulm e.V.:geo:48.391463,10.014171
END:VEVENT
BEGIN:VTIMEZONE
TZID:Europe/Berlin
X-LIC-LOCATION:Europe/Berlin
BEGIN:DAYLIGHT
DTSTART:20250330T030000
TZOFFSETFROM:+0100
TZOFFSETTO:+0200
TZNAME:CEST
END:DAYLIGHT
END:VTIMEZONE
END:VCALENDAR