BEGIN:VCALENDAR
VERSION:2.0
PRODID:-//wp-events-plugin.com//7.2.3.1//EN
TZID:Europe/Berlin
X-WR-TIMEZONE:Europe/Berlin
BEGIN:VEVENT
UID:1357@smv-aktuell.de
DTSTART;TZID=Europe/Berlin:20260531T100000
DTEND;TZID=Europe/Berlin:20260531T160000
DTSTAMP:20251023T075828Z
URL:https://www.smv-aktuell.de/events/modellbahn-ausstellung-im-clubheim-h
 olzheim-bei-limburg-9/
SUMMARY:Modellbahn- Ausstellung im Clubheim  Holzheim bei Limburg
DESCRIPTION:Etwas früher als sonst werden wir 2026 unsere Modellbahn- Somm
 er- Ausstellung halten.\n\nSchauen sie den Baufortschritt unserer Anlagen.
  Entdecken sie Neues. Wir haben unsere alten Westerwald Module reaktiviert
 . Die große Nistertal- Brücke bei Bad Marienberg ist ein Blickfang.\n\nD
 es Weiteren zeigen wir die Nachbauten nach Original Vorbildern Bf. Boppard
 \, Bf. Hadamar\, Bf. Hintergasse (Arlberg)\, Bf. Hahnstätten\, sowie weit
 ere Anlagen nach Phantasie in 2m\, H0 und Spur N.\n\nDer Speisewagen hat g
 eöffnet\, auch unser Lokdoktor kümmert sich um ihre Sorgenkinder.&nbsp\;
 \n\nWir freuen uns auf ihren Besuch&nbsp\;
CATEGORIES:2 BDEF (öffentliche Veranstaltung)
LOCATION:Clubheim des MEC Limburg- Hadamar\, Mühlweg 1a\, Holzheim\, Rhein
 land Pfalz\, 65558\, Landkreis Diez\,   RLP\, Deutschland
GEO:50.354899;8.048703
X-APPLE-STRUCTURED-LOCATION;VALUE=URI;X-ADDRESS=Mühlweg 1a\, Holzheim\, Rh
 einland Pfalz\, 65558\, Landkreis Diez\,   RLP\, Deutschland;X-APPLE-RADIU
 S=100;X-TITLE=Clubheim des MEC Limburg- Hadamar:geo:50.354899,8.048703
END:VEVENT
BEGIN:VTIMEZONE
TZID:Europe/Berlin
X-LIC-LOCATION:Europe/Berlin
BEGIN:DAYLIGHT
DTSTART:20260329T030000
TZOFFSETFROM:+0100
TZOFFSETTO:+0200
TZNAME:CEST
END:DAYLIGHT
END:VTIMEZONE
END:VCALENDAR