BEGIN:VCALENDAR
VERSION:2.0
PRODID:-//wp-events-plugin.com//7.2.3.1//EN
TZID:Europe/Berlin
X-WR-TIMEZONE:Europe/Berlin
BEGIN:VEVENT
UID:1355@smv-aktuell.de
DTSTART;TZID=Europe/Berlin:20261213T100000
DTEND;TZID=Europe/Berlin:20261213T160000
DTSTAMP:20251022T070654Z
URL:https://www.smv-aktuell.de/events/modellbahn-ausstellung-im-clubheim-h
 olzheim-bei-limburg-8/
SUMMARY:Modellbahn- Ausstellung im Clubheim  Holzheim bei Limburg
DESCRIPTION:Holen sie sich ihre Modellbahn- Weihnachtsstimmung bei unserer 
 Ausstellung im Clubheim des MEC Limburg-Hadamar in 65558 Holzheim. Verbrin
 gen sie einen schönen Tag zwischen unseren Clubanlagen\, bei Kaffee und K
 uchen\, oder Bockwurst und einem Softdrink.&nbsp\;\n\nLok- Doktor ist anwe
 send\, kleinere Probleme löst er sofort. Bringen sie ihre Lok mit\, wenn 
 sie nicht richtig Laufen wollen.\n\nKleine Modellbahn-Verkaufsbörse für 
 die letzten Weihnachtsgeschenke\n\nDer MEC Limburg- Hadamar freut sich auf
  ihr Kommen\n\n&nbsp\;\n\n&nbsp\;
ATTACH;FMTTYPE=image/jpeg:https://www.smv-aktuell.de/wp-content/uploads/20
 25/10/20160220_132739.jpg
CATEGORIES:2 BDEF (öffentliche Veranstaltung)
LOCATION:Clubheim des MEC Limburg- Hadamar\, Mühlweg 1a\, Holzheim\, Rhein
 land Pfalz\, 65558\, Landkreis Diez\,   RLP\, Deutschland
GEO:50.354899;8.048703
X-APPLE-STRUCTURED-LOCATION;VALUE=URI;X-ADDRESS=Mühlweg 1a\, Holzheim\, Rh
 einland Pfalz\, 65558\, Landkreis Diez\,   RLP\, Deutschland;X-APPLE-RADIU
 S=100;X-TITLE=Clubheim des MEC Limburg- Hadamar:geo:50.354899,8.048703
END:VEVENT
BEGIN:VTIMEZONE
TZID:Europe/Berlin
X-LIC-LOCATION:Europe/Berlin
BEGIN:STANDARD
DTSTART:20261025T020000
TZOFFSETFROM:+0200
TZOFFSETTO:+0100
TZNAME:CET
END:STANDARD
END:VTIMEZONE
END:VCALENDAR