BEGIN:VCALENDAR
VERSION:2.0
PRODID:-//wp-events-plugin.com//7.2.3.1//EN
TZID:Europe/Berlin
X-WR-TIMEZONE:Europe/Berlin
BEGIN:VEVENT
UID:819@smv-aktuell.de
DTSTART;TZID=Europe/Berlin:20240630T100000
DTEND;TZID=Europe/Berlin:20240630T160000
DTSTAMP:20240220T073120Z
URL:https://www.smv-aktuell.de/events/modellbahn-ausstellung-im-clubheim-h
 olzheim-bei-limburg-4/
SUMMARY:Modellbahn- Ausstellung im Clubheim  Holzheim bei Limburg
DESCRIPTION:Sommer- Ausstellung des MEC Limburg Hadamar im Clubheim in Holz
 heim bei Limburg\, Wir zeigen verschiedene Modellbahnanlagen in N\, H0\, H
 0e\, 2m teils nach original Vorbild\, Kleine Verkaufsbörse\, Für Kaffee\
 , Kuchen\, Getränke und Snacks ist gesorgt. Unser Clubheim liegt in 1. St
 ock\, leider nur über eine Treppe zu erreichen\, Eintritt 3\,-€ Kinder 
 und Familien ermäßigt
ATTACH;FMTTYPE=image/jpeg:https://www.smv-aktuell.de/wp-content/uploads/20
 24/02/20141221_155259.jpg
CATEGORIES:2 BDEF (öffentliche Veranstaltung)
LOCATION:Clubheim des MEC Limburg- Hadamar\, Mühlweg 1a\, Holzheim\, Rhein
 land Pfalz\, 65558\, Landkreis Diez\,   RLP\, Deutschland
GEO:50.354899;8.048703
X-APPLE-STRUCTURED-LOCATION;VALUE=URI;X-ADDRESS=Mühlweg 1a\, Holzheim\, Rh
 einland Pfalz\, 65558\, Landkreis Diez\,   RLP\, Deutschland;X-APPLE-RADIU
 S=100;X-TITLE=Clubheim des MEC Limburg- Hadamar:geo:50.354899,8.048703
END:VEVENT
BEGIN:VTIMEZONE
TZID:Europe/Berlin
X-LIC-LOCATION:Europe/Berlin
BEGIN:DAYLIGHT
DTSTART:20240331T030000
TZOFFSETFROM:+0100
TZOFFSETTO:+0200
TZNAME:CEST
END:DAYLIGHT
END:VTIMEZONE
END:VCALENDAR