BEGIN:VCALENDAR
VERSION:2.0
PRODID:-//wp-events-plugin.com//7.2.3.1//EN
TZID:Europe/Berlin
X-WR-TIMEZONE:Europe/Berlin
BEGIN:VEVENT
UID:410@smv-aktuell.de
DTSTART;TZID=Europe/Berlin:20230625T100000
DTEND;TZID=Europe/Berlin:20230625T160000
DTSTAMP:20230131T143503Z
URL:https://www.smv-aktuell.de/events/modellbahn-ausstellung-im-clubheim-h
 olzheim-bei-limburg-2/
SUMMARY:Modellbahn- Ausstellung im Clubheim  Holzheim bei Limburg
DESCRIPTION:In unserem Clubheim in Holzheim bei Limburg zeigen wir unsere H
 0 Anlage nach Strecken und Bahnhöfen der Vorbildern\n\nBoppard\,\n\nHadam
 ar\,\n\nHahnstätten\,\n\nHintergasse/ Arlberg\n\nWeitere Anlagen in LGB\,
  H0\, H0e und N in Betrieb\,\n\nFür Snacks\, Getränke\, Kaffee und Kuche
 n sowie frische Waffeln ist gesorgt.\n\nEingang im Hof. Neben Pizzeria. Zu
 gang nur über Treppe möglich. (also leider nicht Behindertengerecht) .
ATTACH;FMTTYPE=image/jpeg:https://www.smv-aktuell.de/wp-content/uploads/20
 23/01/IMG_20200625_082517_resized_20200626_103501738-1.jpg
CATEGORIES:2 BDEF (öffentliche Veranstaltung)
LOCATION:Clubheim des MEC Limburg- Hadamar\, Mühlweg 1a\, Holzheim\, Rhein
 land Pfalz\, 65558\, Landkreis Diez\,   RLP\, Deutschland
GEO:50.354899;8.048703
X-APPLE-STRUCTURED-LOCATION;VALUE=URI;X-ADDRESS=Mühlweg 1a\, Holzheim\, Rh
 einland Pfalz\, 65558\, Landkreis Diez\,   RLP\, Deutschland;X-APPLE-RADIU
 S=100;X-TITLE=Clubheim des MEC Limburg- Hadamar:geo:50.354899,8.048703
END:VEVENT
BEGIN:VTIMEZONE
TZID:Europe/Berlin
X-LIC-LOCATION:Europe/Berlin
BEGIN:DAYLIGHT
DTSTART:20230326T030000
TZOFFSETFROM:+0100
TZOFFSETTO:+0200
TZNAME:CEST
END:DAYLIGHT
END:VTIMEZONE
END:VCALENDAR