BEGIN:VCALENDAR
VERSION:2.0
PRODID:-//wp-events-plugin.com//7.2.3.1//EN
TZID:Europe/Berlin
X-WR-TIMEZONE:Europe/Berlin
BEGIN:VEVENT
UID:929@smv-aktuell.de
DTSTART;TZID=Europe/Berlin:20241228T130000
DTEND;TZID=Europe/Berlin:20250101T180000
DTSTAMP:20240928T070320Z
URL:https://www.smv-aktuell.de/events/modellbahn-ausstellung-2024-12-28/
SUMMARY:Modellbahn-Ausstellung
DESCRIPTION:
ATTACH;FMTTYPE=image/jpeg:https://www.smv-aktuell.de/wp-content/uploads/20
 24/09/plakat-A5-2024.png
CATEGORIES:2 BDEF (öffentliche Veranstaltung)
LOCATION:Kulturbahnhof Stollberg\, Bahnhofstraße 2\, Stollberg\, Sachsen\,
  09366\, Deutschland
GEO:50.709277;12.773977
X-APPLE-STRUCTURED-LOCATION;VALUE=URI;X-ADDRESS=Bahnhofstraße 2\, Stollber
 g\, Sachsen\, 09366\, Deutschland;X-APPLE-RADIUS=100;X-TITLE=Kulturbahnhof
  Stollberg:geo:50.709277,12.773977
END:VEVENT
BEGIN:VTIMEZONE
TZID:Europe/Berlin
X-LIC-LOCATION:Europe/Berlin
BEGIN:STANDARD
DTSTART:20241027T020000
TZOFFSETFROM:+0200
TZOFFSETTO:+0100
TZNAME:CET
END:STANDARD
END:VTIMEZONE
END:VCALENDAR