BEGIN:VCALENDAR
VERSION:2.0
PRODID:-//wp-events-plugin.com//7.2.3.1//EN
TZID:Europe/Berlin
X-WR-TIMEZONE:Europe/Berlin
BEGIN:VEVENT
UID:832@smv-aktuell.de
DTSTART;TZID=Europe/Berlin:20241027T110000
DTEND;TZID=Europe/Berlin:20241027T160000
DTSTAMP:20240306T153600Z
URL:https://www.smv-aktuell.de/events/modellbahn-ausstellung-2/
SUMMARY:Modellbahn-Ausstellung
DESCRIPTION:Vorführung einer Modellbahn-Anlage in der Spurweite HO in der 
 Epoche IIIa-b und Wettbewerb eines Rangierspiels.&nbsp\;
CATEGORIES:2 BDEF (öffentliche Veranstaltung)
LOCATION:Eschborn/Ts.\, Hauptstraße 14 (Vereinsheim) \, Eschborn/Ts.\, Hes
 sen\, 65760\, Main-Taunus-Kreis\, Deutschland
GEO:50.143667;8.569802
X-APPLE-STRUCTURED-LOCATION;VALUE=URI;X-ADDRESS=Hauptstraße 14 (Vereinshei
 m) \, Eschborn/Ts.\, Hessen\, 65760\, Main-Taunus-Kreis\, Deutschland;X-AP
 PLE-RADIUS=100;X-TITLE=Eschborn/Ts.:geo:50.143667,8.569802
END:VEVENT
BEGIN:VTIMEZONE
TZID:Europe/Berlin
X-LIC-LOCATION:Europe/Berlin
BEGIN:STANDARD
DTSTART:20241027T020000
TZOFFSETFROM:+0200
TZOFFSETTO:+0100
TZNAME:CET
END:STANDARD
END:VTIMEZONE
END:VCALENDAR