BEGIN:VCALENDAR
VERSION:2.0
PRODID:-//wp-events-plugin.com//7.2.3.1//EN
TZID:Europe/Berlin
X-WR-TIMEZONE:Europe/Berlin
BEGIN:VEVENT
UID:107@smv-aktuell.de
DTSTART;TZID=Europe/Berlin:20221118T100000
DTEND;TZID=Europe/Berlin:20221120T180000
DTSTAMP:20220522T092217Z
URL:https://www.smv-aktuell.de/events/kuehlungsborner-modellbahnausstellun
 g/
SUMMARY:Kühlungsborner Modellbahnausstellung
DESCRIPTION:18. bis 20. November 2022 im Hotel Aquamarin\nBegeben Sie sich 
 auf eine kleine Zeitreise durch die Geschichte der Eisenbahn: Entdecken Si
 e eine liebevoll gestaltete Eisenbahn-Miniaturwelt mit detail­getreuen Da
 mpf- und Elektroloks im Maßstab&nbsp\;1:220&nbsp\;bis zu den Gartenbahnen
  in&nbsp\;1:22\,5\,&nbsp\;Schienen\, Weichen\, Schranken\, Bahnhöfen\, Wa
 rte­häuschen\, Landschaften...\nDie kleine Ausstellung präsentiert vorr
 angig Anlagen\, die in jeder Wohnung Platz finden. Aussteller aus ganz Deu
 tschland und Polen zeigen\, wie unter­schiedlich man an das Thema Modellb
 ahn herangehen kann...
ATTACH;FMTTYPE=image/jpeg:https://www.smv-aktuell.de/wp-content/uploads/20
 22/05/neues-Logo-2022.jpg
CATEGORIES:4 Externe Veranstalter
LOCATION:Hotel Aquamarin\, Hermannstraße 33\, Kühlungsborn \, Deutschland
 \, 18225\, Deutschland
GEO:54.151839;11.734345
X-APPLE-STRUCTURED-LOCATION;VALUE=URI;X-ADDRESS=Hermannstraße 33\, Kühlun
 gsborn \, Deutschland\, 18225\, Deutschland;X-APPLE-RADIUS=100;X-TITLE=Hot
 el Aquamarin:geo:54.151839,11.734345
END:VEVENT
BEGIN:VTIMEZONE
TZID:Europe/Berlin
X-LIC-LOCATION:Europe/Berlin
BEGIN:STANDARD
DTSTART:20221030T020000
TZOFFSETFROM:+0200
TZOFFSETTO:+0100
TZNAME:CET
END:STANDARD
END:VTIMEZONE
END:VCALENDAR