BEGIN:VCALENDAR
VERSION:2.0
PRODID:-//wp-events-plugin.com//7.2.3.1//EN
TZID:Europe/Berlin
X-WR-TIMEZONE:Europe/Berlin
BEGIN:VEVENT
UID:1492@smv-aktuell.de
DTSTART;TZID=Europe/Berlin:20270213T100000
DTEND;TZID=Europe/Berlin:20270214T170000
DTSTAMP:20260413T090023Z
URL:https://www.smv-aktuell.de/events/grosses-landschaftsbauseminar-modell
 bahn/
SUMMARY:Großes Landschaftsbauseminar Modellbahn
DESCRIPTION:Gleisbau\, Schottern\, Wege &amp\; Straßen\, Begrünung\, Geb
 äude\, Mauern\, Felsen\, Gewässer\, Büsche\, Bäume\, Hecken. Es wird e
 in Diorama gebaut\, welches mit nach Hause genommen werden kann.\n\nSemina
 rpreis 225\,- € inkl. Material\n2. Person am Diorama zahlt nur 30\,-€\
 n\nBeginn 10 Uhr\, Ende ca 17 Uhr\n\nVerpflegungspauschale: 25\,- pro 
 Tag\n\nWir empfehlen zur Übernachtung:\nHotel Buntes Haus in Seiffen\nAng
 ebotspreis: 109\,-  € (DZ)\nAnmeldung:\nTel.: +49 (0) 37362 879 794\nE
 -Mail: info@seiroba.de
ATTACH;FMTTYPE=image/jpeg:https://www.smv-aktuell.de/wp-content/uploads/20
 26/04/Modellbahnanlage-Erlebniswelt-Seiffen_04.jpeg
CATEGORIES:4 Externe Veranstalter
LOCATION:Erlebniswelt Seiffen\, Bahnhofstraße 18 b\, Kurort Seiffen\, Sach
 sen\, 09548\, Deutschland
GEO:50.6537;13.445327
X-APPLE-STRUCTURED-LOCATION;VALUE=URI;X-ADDRESS=Bahnhofstraße 18 b\, Kuror
 t Seiffen\, Sachsen\, 09548\, Deutschland;X-APPLE-RADIUS=100;X-TITLE=Erleb
 niswelt Seiffen:geo:50.6537,13.445327
END:VEVENT
BEGIN:VTIMEZONE
TZID:Europe/Berlin
X-LIC-LOCATION:Europe/Berlin
BEGIN:STANDARD
DTSTART:20261025T020000
TZOFFSETFROM:+0200
TZOFFSETTO:+0100
TZNAME:CET
END:STANDARD
END:VTIMEZONE
END:VCALENDAR