BEGIN:VCALENDAR
VERSION:2.0
PRODID:-//wp-events-plugin.com//7.2.3.1//EN
TZID:Europe/Berlin
X-WR-TIMEZONE:Europe/Berlin
BEGIN:VEVENT
UID:1077@smv-aktuell.de
DTSTART;TZID=Europe/Berlin:20241117T100000
DTEND;TZID=Europe/Berlin:20241117T170000
DTSTAMP:20241017T143908Z
URL:https://www.smv-aktuell.de/events/grosse-modelleisenbahnaustellung-mit
 -modelleisenbahnboerse-in-bornheim-3/
SUMMARY:Große Modelleisenbahnaustellung mit Modelleisenbahnbörse in Bornh
 eim
DESCRIPTION:\n\nGroße Modelleisenbahnausstellung mit Modelleisenbahnbörse
  in Bornheim\, am 16. und 17. November 2024\njeweils von 10:00 Uhr bis 17:
 00 Uhr\n\nAusgestellt werden Anlagen in den Maßstäben Z\, N\, H0\, H0e u
 nd 0\, Spielanlage\, Dioramen\, Modellausstellung sowie eine historische M
 ärklin Spur 0 Bahn und eine Echtdampfbahn\nmit Verlosung und Imbiss-Speis
 ewagen\nVeranstaltungsort: Alexander-von-Humboldt-Gymnasium\, Adenaueralle
 e 50\, 53332 Bornheim\, ein großer Parkplatz ist vorhanden auch mit der S
 tadtbahnlinie 18 erreichbar\, Haltestelle Bornheim Rathaus\nEintritt: Erwa
 chsene 4\,50€\, Kinder unter 14 Jahre frei\n&nbsp\;\nVeranstalter: Eisen
 bahn Amateur Club Bonn Sechtem e.V.\nHomepage:&nbsp\;www.ebac-bonn.de
ATTACH;FMTTYPE=image/jpeg:https://www.smv-aktuell.de/wp-content/uploads/20
 24/10/IMG-20241011-WA0002-2.jpg
CATEGORIES:4 Externe Veranstalter
LOCATION:Alexander-von-Humbold-Gymnasium\, Adenauerallee 50\, 53332 Bornhei
 m\, Nordrhein-Westfalen\, 53332\, Bonn\, Deutschland
GEO:50.7578;7.002817
X-APPLE-STRUCTURED-LOCATION;VALUE=URI;X-ADDRESS=Adenauerallee 50\, 53332 Bo
 rnheim\, Nordrhein-Westfalen\, 53332\, Bonn\, Deutschland;X-APPLE-RADIUS=1
 00;X-TITLE=Alexander-von-Humbold-Gymnasium:geo:50.7578,7.002817
END:VEVENT
BEGIN:VTIMEZONE
TZID:Europe/Berlin
X-LIC-LOCATION:Europe/Berlin
BEGIN:STANDARD
DTSTART:20241027T020000
TZOFFSETFROM:+0200
TZOFFSETTO:+0100
TZNAME:CET
END:STANDARD
END:VTIMEZONE
END:VCALENDAR