BEGIN:VCALENDAR
VERSION:2.0
PRODID:-//wp-events-plugin.com//7.2.3.1//EN
TZID:Europe/Berlin
X-WR-TIMEZONE:Europe/Berlin
BEGIN:VEVENT
UID:358@smv-aktuell.de
DTSTART;TZID=Europe/Berlin;VALUE=DATE:20221228
DTEND;TZID=Europe/Berlin;VALUE=DATE:20221230
DTSTAMP:20221116T113432Z
URL:https://www.smv-aktuell.de/events/grosse-modellbahnschau-im-eisenbahne
 rdorf-2/
SUMMARY:Große Modellbahnschau im Eisenbahnerdorf
DESCRIPTION:Zum Jahresausklang ist die Großanlage mit tollen Zugbildungen\
 n\naus versch. Epochen der Eisenbahn zu sehen.\n\nDazu gibts Kinderprogram
 m und mehr.
CATEGORIES:1 SMV (öffentliche Veranstaltung)
LOCATION:Haus der Vereine\, August-Bebel-Str. 46\, Annaberg-Buchholz OT Cun
 ersdorf\, Sachsen\, 09456\, Deutschland
GEO:50.550309;13.005528
X-APPLE-STRUCTURED-LOCATION;VALUE=URI;X-ADDRESS=August-Bebel-Str. 46\, Anna
 berg-Buchholz OT Cunersdorf\, Sachsen\, 09456\, Deutschland;X-APPLE-RADIUS
 =100;X-TITLE=Haus der Vereine:geo:50.550309,13.005528
END:VEVENT
BEGIN:VTIMEZONE
TZID:Europe/Berlin
X-LIC-LOCATION:Europe/Berlin
BEGIN:STANDARD
DTSTART:20221030T020000
TZOFFSETFROM:+0200
TZOFFSETTO:+0100
TZNAME:CET
END:STANDARD
END:VTIMEZONE
END:VCALENDAR