BEGIN:VCALENDAR
VERSION:2.0
PRODID:-//wp-events-plugin.com//7.2.3.1//EN
TZID:Europe/Berlin
X-WR-TIMEZONE:Europe/Berlin
BEGIN:VEVENT
UID:837@smv-aktuell.de
DTSTART;TZID=Europe/Berlin:20240509T100000
DTEND;TZID=Europe/Berlin:20240512T180000
DTSTAMP:20240405T061428Z
URL:https://www.smv-aktuell.de/events/gemeinschaftsausstellung-schnitzer-m
 odellbahner-kloepplerinnen/
SUMMARY:Gemeinschaftsausstellung Schnitzer\, Modellbahner\, Klöpplerinnen
DESCRIPTION:100 Jahre Schnitzverein Cunersdorf. Gemeinschaftsausstellung\n\
 n&nbsp\;mit den Klöpplerinnen und dem Erzgebirgischen Modellbahnclub\n\nC
 unersdorf/Crottendorf.\n\n&nbsp\;
CATEGORIES:1 SMV (öffentliche Veranstaltung)
LOCATION:Haus der Vereine\, August-Bebel-Str. 46\, Annaberg-Buchholz OT Cun
 ersdorf\, Sachsen\, 09456\, Deutschland
GEO:50.550309;13.005528
X-APPLE-STRUCTURED-LOCATION;VALUE=URI;X-ADDRESS=August-Bebel-Str. 46\, Anna
 berg-Buchholz OT Cunersdorf\, Sachsen\, 09456\, Deutschland;X-APPLE-RADIUS
 =100;X-TITLE=Haus der Vereine:geo:50.550309,13.005528
END:VEVENT
BEGIN:VTIMEZONE
TZID:Europe/Berlin
X-LIC-LOCATION:Europe/Berlin
BEGIN:DAYLIGHT
DTSTART:20240331T030000
TZOFFSETFROM:+0100
TZOFFSETTO:+0200
TZNAME:CEST
END:DAYLIGHT
END:VTIMEZONE
END:VCALENDAR