BEGIN:VCALENDAR
VERSION:2.0
PRODID:-//wp-events-plugin.com//7.2.3.1//EN
TZID:Europe/Berlin
X-WR-TIMEZONE:Europe/Berlin
BEGIN:VEVENT
UID:1397@smv-aktuell.de
DTSTART;TZID=Europe/Berlin:20251228T150000
DTEND;TZID=Europe/Berlin:20251228T200000
DTSTAMP:20251206T114143Z
URL:https://www.smv-aktuell.de/events/fabrik-weihnacht/
SUMMARY:Fabrik-Weihnacht
DESCRIPTION:Besichtigung der Ausstellungsanlagen in den Vereinsräumen des 
 MEC Marienberg anläßlich der Veranstaltungen um die "Fabrik-Weihnacht" i
 n der Böttcherfabrik Pobershau. Kleiner (Nach)-Weihnachtsmarkt.
CATEGORIES:1 SMV (öffentliche Veranstaltung)
LOCATION:Böttcherfabrik Pobershau\, Ratsseite-Dorfstraße 112\, Marienberg
 \, 09496\, Deutschland
GEO:50.629196;13.207987
X-APPLE-STRUCTURED-LOCATION;VALUE=URI;X-ADDRESS=Ratsseite-Dorfstraße 112\,
  Marienberg\, 09496\, Deutschland;X-APPLE-RADIUS=100;X-TITLE=Böttcherfabr
 ik Pobershau:geo:50.629196,13.207987
END:VEVENT
BEGIN:VTIMEZONE
TZID:Europe/Berlin
X-LIC-LOCATION:Europe/Berlin
BEGIN:STANDARD
DTSTART:20251026T020000
TZOFFSETFROM:+0200
TZOFFSETTO:+0100
TZNAME:CET
END:STANDARD
END:VTIMEZONE
END:VCALENDAR