BEGIN:VCALENDAR
VERSION:2.0
PRODID:-//wp-events-plugin.com//7.2.3.1//EN
TZID:Europe/Berlin
X-WR-TIMEZONE:Europe/Berlin
BEGIN:VEVENT
UID:1200@smv-aktuell.de
DTSTART;TZID=Europe/Berlin:20250517T100000
DTEND;TZID=Europe/Berlin:20250518T170000
DTSTAMP:20250122T073443Z
URL:https://www.smv-aktuell.de/events/dampf-und-modellbahntreffen/
SUMMARY:Dampf- und Modellbahntreffen
DESCRIPTION:Personenbefördernde Gartenbahn\, Draisine-Fahrten\, Modellbahn
 anlagen in verschiedenen Spuren\, Imbissangebot
ATTACH;FMTTYPE=image/jpeg:https://www.smv-aktuell.de/wp-content/uploads/20
 25/01/Foto.jpg
CATEGORIES:4 Externe Veranstalter
LOCATION:Technisches Denkmals Bahnhof Langenau (Sachs.)\, Am Bahnhof 4\, Br
 and-Erbisdorf\, Sachsen\, 09618\, Erzgebirge\, Deutschland
GEO:50.846871;13.291215
X-APPLE-STRUCTURED-LOCATION;VALUE=URI;X-ADDRESS=Am Bahnhof 4\, Brand-Erbisd
 orf\, Sachsen\, 09618\, Erzgebirge\, Deutschland;X-APPLE-RADIUS=100;X-TITL
 E=Technisches Denkmals Bahnhof Langenau (Sachs.):geo:50.846871,13.291215
END:VEVENT
BEGIN:VTIMEZONE
TZID:Europe/Berlin
X-LIC-LOCATION:Europe/Berlin
BEGIN:DAYLIGHT
DTSTART:20250330T030000
TZOFFSETFROM:+0100
TZOFFSETTO:+0200
TZNAME:CEST
END:DAYLIGHT
END:VTIMEZONE
END:VCALENDAR