BEGIN:VCALENDAR
VERSION:2.0
PRODID:-//wp-events-plugin.com//7.2.3.1//EN
TZID:Europe/Berlin
X-WR-TIMEZONE:Europe/Berlin
BEGIN:VEVENT
UID:1276@smv-aktuell.de
DTSTART;TZID=Europe/Berlin:20250914T100000
DTEND;TZID=Europe/Berlin:20250914T160000
DTSTAMP:20250906T070536Z
URL:https://www.smv-aktuell.de/events/besichtigung-stellwerk-lpf-in-lehrte
 -am-tag-des-offenen-denkmals/
SUMMARY:Besichtigung Stellwerk Lpf in Lehrte am Tag des offenen Denkmals
DESCRIPTION:Am Sonntag\, dem 14. September 2025 findet der deutschlandweite
  Tag des offene Denkmals statt.\nAuch das Stellwerk-Museum und die Modellb
 ahn können dann wieder besichtigt werden.\nFür Besucher ist das historis
 che Stellwerk Lpf im Bahnhof Lehrte ausnahmsweise ganztags von 10 bis 16 U
 hr geöffnet.\n\nWillkommen bei Deutschlands größtem Kulturevent! Tauche
 n Sie ein in die faszinierende Welt der Geschichte.\nÜber 5.000 Denkmalt
 üren öffnen immer am 2. Sonntag im September deutschlandweit für Sie\, 
 Ihre Freunde und die ganze Familie.\nEntdecken Sie sonst nicht zugänglich
 e Orte.\n\nDas Stellwerk Lpf &nbsp\;wurde 1896 erbaut und wird vom Modelle
 isenbahnverein Lehrte e.V. als Technikmuseum erhalten.\nEs steht unter Den
 kmalschutz und war bis 1986 in Betrieb.\nDas Stellwerk hatte verschiedene 
 Namen. Der erste Name lautete "Bef.St.W.Wtm" = Befehlsstellwerk Westturm.\
 nUm 1950 erfolgte eine erneute Änderung des Namens in "Lpf" = Lehrte Pers
 onenbahnhof Fahrdienstleiter.\nVon diesem Stellwerk aus wurde der gesamte 
 Zugverkehr im Lehrter Personenbahnhof gesteuert.\nEs konnte kein Zug fahre
 n\, wenn er nicht vom Fahrdienstleiter und den angeschlossen Stellwerken d
 en Befehl dafür bekam.\nAm Sonntag werden die zahlreichen Handgriffe im r
 ein mechanischen Stellwerk gezeigt und erklärt.\nIn der oberen Etage befi
 ndet sich diese Technik des Stellwerks mit der Hebelbank und dem Verschlus
 skasten der Bauart "Jüdel" und den Blockwerkanlagen von "Siemens &amp\; H
 alske" von 1912.\nBei der Außerbetriebnahme wurden sämtliche elektrische
 n und mechanischen Anschlüsse nach außen abgebaut.\nDer MEV Lehrte hat i
 n mühevoller Arbeit die Funktion des mechanischen Stellwerks für Simulat
 ionen wieder hergestellt und somit ein Denkmal der Nachwelt erhalten.\nDie
  Hebelbank hat 110 Plätze. Davon sind 79 besetzt mit Hebeln für 41 Weich
 en\, 14 Riegeln\, 1 Gleissperre\, 7 Sperr-Signale\, 1 Signalwinde\, 14 Sig
 nale und 1 Vorsignal.\nDer Verschlusskasten beinhaltet 26 Schubstangen mit
  denen 50 Fahrstraßen gesichert werden.\nUnter den Blockwerken sind 54 Fa
 hrstraßenhebel für den Verschluss und die Festlegung der Fahrstraßen.\n
 Mit Muskelkraft werden Weichen- und Signalhebel bewegt und Strom für die 
 Meldungen zu den anderen Stellwerken erzeigt.\nDer Blick aus dem Obergesch
 oss auf die moderne Bahn von heute rundet das Eisenbahnerlebnis ab.\n\nIm 
 Erdgeschoss&nbsp\;des Stellwerks ist&nbsp\;das H0-Modell des Lehrter Perso
 nenbahnhofs um 1960 zu bestaunen.\nEin Blick in die Lehrter Stadtgeschicht
 e der 60er Jahre ist einen Besuch wert.\nAuf der computergesteuerten Model
 lbahnanlage werden Fahrstraßen\, Weichen und Signale digital gestellt und
  somit die Modelleisenbahnen durch den Lehrter Bahnhof geleitet.\nHier kan
 n man erkennen\, wie wichtig die Eisenbahngeschichte für Lehrte war.\n\nZ
 u&nbsp\;erreichen ist das Stellwerk Lpf im Bahnhof&nbsp\;Lehrte über die 
 Straße Richtersdorf am Bahnübergang Grünstraße /&nbsp\;Poststraße (B4
 43).\nDort treffen sich die Mitglieder jeden Donnerstag ab 16:00 Uhr.\nGer
 n sind dann auch Interessierte gesehen\, die beim Erhalt der alten Stellwe
 rktechnik oder dem Bau und Betrieb der Modellbahnanlage helfen wollen.\nJe
 de Unterstützung zum Erhalt der Lehrter Eisenbahngeschichte ist willkomme
 n.\nWeitere Informationen gibt es auch im Internet unter www.mev-lehrte.de
  oder bei facebook.de/mevlehrte.
ATTACH;FMTTYPE=image/jpeg:https://www.smv-aktuell.de/wp-content/uploads/20
 25/09/Stellwerk-Lpf-2025.jpg
CATEGORIES:2 BDEF (öffentliche Veranstaltung)
LOCATION:Museumsstellwerk Lpf\, Richtersdorf 1\, Lehrte\, Niedersachsen\, 3
 1275\, Hannover\, Deutschland
GEO:52.3797;9.970886
X-APPLE-STRUCTURED-LOCATION;VALUE=URI;X-ADDRESS=Richtersdorf 1\, Lehrte\, N
 iedersachsen\, 31275\, Hannover\, Deutschland;X-APPLE-RADIUS=100;X-TITLE=M
 useumsstellwerk Lpf:geo:52.3797,9.970886
END:VEVENT
BEGIN:VTIMEZONE
TZID:Europe/Berlin
X-LIC-LOCATION:Europe/Berlin
BEGIN:DAYLIGHT
DTSTART:20250330T030000
TZOFFSETFROM:+0100
TZOFFSETTO:+0200
TZNAME:CEST
END:DAYLIGHT
END:VTIMEZONE
END:VCALENDAR