BEGIN:VCALENDAR
VERSION:2.0
PRODID:-//wp-events-plugin.com//7.2.3.1//EN
TZID:Europe/Berlin
X-WR-TIMEZONE:Europe/Berlin
BEGIN:VEVENT
UID:835@smv-aktuell.de
DTSTART;TZID=Europe/Berlin:20240406T090000
DTEND;TZID=Europe/Berlin:20240406T170000
DTSTAMP:20240328T083649Z
URL:https://www.smv-aktuell.de/events/berliner-modellbahn-und-spielzeugboe
 rse/
SUMMARY:Berliner Modellbahn und Spielzeugbörse
DESCRIPTION:Berliner Spielzeugbörse für Modellbahn und altes Spielzeug\nS
 amstag 6.April 2024 (9-17 Uhr)\nTribünenhalle Trabrennbahn Berlin Karlsho
 rst\nTreskowallee 159\, 10318 Berlin\n30-50 Aussteller und 1000 Besucher\n
 Eintritt: 4 Euro\, ab 13 Uhr: 2 Euro\n030-29002010\noldthing.de
ATTACH;FMTTYPE=image/jpeg:https://www.smv-aktuell.de/wp-content/uploads/20
 24/03/20181003_071_Markt-Trabrennbahn_Boerse_kl.jpg
CATEGORIES:4 Externe Veranstalter
LOCATION:Tribünenhalle Trabrennbahn Berlin Karlshorst\, Treskowallee 159\,
  Berlin\, Deutschland\, 10318\, Berlin\, Deutschland
GEO:52.475376;13.524114
X-APPLE-STRUCTURED-LOCATION;VALUE=URI;X-ADDRESS=Treskowallee 159\, Berlin\,
  Deutschland\, 10318\, Berlin\, Deutschland;X-APPLE-RADIUS=100;X-TITLE=Tri
 bünenhalle Trabrennbahn Berlin Karlshorst:geo:52.475376,13.524114
END:VEVENT
BEGIN:VTIMEZONE
TZID:Europe/Berlin
X-LIC-LOCATION:Europe/Berlin
BEGIN:DAYLIGHT
DTSTART:20240331T030000
TZOFFSETFROM:+0100
TZOFFSETTO:+0200
TZNAME:CEST
END:DAYLIGHT
END:VTIMEZONE
END:VCALENDAR